BEGIN:VCALENDAR
VERSION:2.0
PRODID:-//wp-events-plugin.com//7.2.3.1//EN
BEGIN:VEVENT
UID:42@grandpianoseries.org
DTSTART;TZID=Pacific/Easter:20200211T193000
DTEND;TZID=Pacific/Easter:20200211T210000
DTSTAMP:20230731T002416Z
URL:https://grandpianoseries.org/events/yanfeng-tony-bai/
SUMMARY:Yanfeng (Tony) Bai
DESCRIPTION:\n\n\n\n\nPianist Yanfeng (Tony) Bai\, 20\, is an international
  prizewinner\, most recently taking first prize at the China Shenzhen Inte
 rnational Piano Concerto Competition and the third prize of the Gotrian In
 ternational Piano Competition in Germany. He was also awarded first prize 
 in the China Central Television Piano Competition，1st prize of the Conce
 rto Competition of the Morningside Music Bridge International Music Festiv
 al in 2017 and in 2011\, the 4th Texas State International Piano Festival 
 Classical Artists Development Foundation Emerging Artist Award-1st Prize
 ，1st prize and Special prize of “KADANZA CUP” the national youth pia
 no competition\, and he is a prizewinner of the International Tchaikovsky 
 Competition for Young Musicians.\n\n\n\n\nMr. Bai has performed with numer
 ous orchestras\, including Calgary Philharmonic Orchestra\, China Philharm
 onic Orchestra\, the Orchestra Antonio Vivaldi and the New Russia State Sy
 mphony Orchestra\, etc. He has given multiple recitals in US\, Italy and C
 hina\, and has been featured in interviews by OMNI Television in Canada\, 
 China Central Television\, China Piano Artistry Magazine and Parsons Music
 .\n\nIn the 2019-20 season\, Mr. Bai will be a guest soloist with the Shen
 zhen Symphony Orchestra and the Colburn Orchestra.\n\nMr. Bai is currently
  a Bachelor of Music candidate at the Colburn School\, where he studies wi
 th Fabio Bidini. Previous teachers include Jin Zhang\, who he studied with
  in China at the China Central Conservatory of Music before coming to Los 
 Angeles.\n\n\nProgram\n\n\n\n\n\n\n\n\n\nBeethoven:\n\nPiano Sonata No. 9 
 in E major\, Op. 14\, No. 1\nPiano Sonata No. 10 in G major\, Op. 14\, No.
  2\nPiano Sonata No. 11 in B♭ major\, Op. 22\nPiano Sonata No. 12 in A
 ♭ major\, Op. 26 "Marcia Funebre sulla morte di un ero\n\n\n\n\n\n\n\n\n
 \n\n\nGet Tickets\n\n
ATTACH;FMTTYPE=image/jpeg:https://i0.wp.com/grandpianoseries.org/wp-conten
 t/uploads/2023/01/DSC_3139_kateliu-15.webp?fit=680%2C386&ssl=1
CATEGORIES:Past Events
END:VEVENT
BEGIN:VTIMEZONE
TZID:Pacific/Easter
X-LIC-LOCATION:Pacific/Easter
BEGIN:DAYLIGHT
DTSTART:20190907T230000
TZOFFSETFROM:-0600
TZOFFSETTO:-0500
TZNAME:-05
END:DAYLIGHT
END:VTIMEZONE
END:VCALENDAR