BEGIN:VCALENDAR
VERSION:2.0
PRODID:-//wp-events-plugin.com//7.2.3.1//EN
BEGIN:VEVENT
UID:85@grandpianoseries.org
DTSTART;TZID=Pacific/Easter:20231214T193000
DTEND;TZID=Pacific/Easter:20231214T210000
DTSTAMP:20240222T034542Z
URL:https://grandpianoseries.org/events/vyacheslav-gryaznov-2/
SUMMARY:Vyacheslav Gryaznov
DESCRIPTION:"Extraordinarily inventive\, a leading voice and one of the gre
 at wonders of modern pianism." – Musical Life  \n\n\n\n\n\nVyacheslav
  Gryaznov is an internationally celebrated pianist/composer\, known and la
 uded for his over 40 arrangements\, 15 of which are published by the prest
 igious Schott Music\, which signed him in 2014 as their youngest composer.
  A winner of multiple international awards\, Vyacheslav is a victor of top
  piano competitions in Italy\, Ukraine\, Denmark\, Georgia\, Japan\, Russi
 a\, and the United States. The latter\, the 2016 New York Concert Artists 
 Worldwide Audition\, where Vyacheslav won the 1st Prize\, led to the relea
 se of his "Russian Transcriptions" album on the Steinway &amp\; Sons label
 . The album is available worldwide on all major streaming platforms. His m
 ost recent 2021 album\, "Western Transcriptions\," is available on the Mas
 ter Performers label.\n\nIn 2022\, Vyacheslav launched his piano festival 
 at Vashon Center for The Arts\, WA\, with great acclaim and has also made 
 his conducting debut at the inaugural edition. Having graduated with honor
 s from the Central Music School of the Moscow State Conservatory under Pro
 fessor Manana Kandelaki's tutelage\, he graduated with honors from the Mos
 cow State Conservatory with Professor Yuri Slesarev. He joined the faculty
  during his post-graduate studies there. In 2016\, Vyacheslav moved to the
  United States and completed Yale School of Music's Artist Diploma program
  with Professor Boris Berman.\n\nVyacheslav resides in New York and New Ha
 ven\, tours nationally and in Europe\, Africa\, and Japan\, and is an Arti
 st-in-Residence with The Drozdoff Society in the United States.\n\n&nbsp\;
 \n\n\n\n\n\nProgram\n\n\n\n\n\n\n\nRAMEAU\nFour pieces from Nouvelles suit
 e in a minor:\n1. Allemande\n2. Courante\n3. Sarabande\n4. Les trois mains
  (The Three Hands)\n\nCHOPIN\nBallade No. 1 in g minor\, Op. 23\n\nIntermi
 ssion\n\nRACHMANINOFF\nTwo Preludes\, Op. 32 No. 5\; Op. 23 No. 5\nEtudes-
 tableaux\, Op. 33 No. 3\; Op. 39 No. 5\nMorceaux de fantaisie\, Op. 3\n1. 
 Elegy\n2. Melody (v. 1942)\n3. Prelude\n4. Polichinelle\n5. Serenade (v. 1
 942)\n\n\n\n\n\n\n\n\n﻿﻿﻿\n\n\nGet Tickets\n\n
ATTACH;FMTTYPE=image/jpeg:https://i0.wp.com/grandpianoseries.org/wp-conten
 t/uploads/2023/07/Gryaznov_4-VBO-scaled.jpg?fit=2560%2C1707&ssl=1
CATEGORIES:Past Events
LOCATION:St Leo Auditorium\, 28290 Beaumont Rd\, Bonita Springs\, Florida\,
  34134\, United States
X-APPLE-STRUCTURED-LOCATION;VALUE=URI;X-ADDRESS=28290 Beaumont Rd\, Bonita 
 Springs\, Florida\, 34134\, United States;X-APPLE-RADIUS=100;X-TITLE=St Le
 o Auditorium:geo:0,0
END:VEVENT
BEGIN:VTIMEZONE
TZID:Pacific/Easter
X-LIC-LOCATION:Pacific/Easter
BEGIN:DAYLIGHT
DTSTART:20230902T230000
TZOFFSETFROM:-0600
TZOFFSETTO:-0500
TZNAME:-05
END:DAYLIGHT
END:VTIMEZONE
END:VCALENDAR