BEGIN:VCALENDAR
VERSION:2.0
PRODID:-//wp-events-plugin.com//7.2.3.1//EN
BEGIN:VEVENT
UID:164@grandpianoseries.org
DTSTART;TZID=Pacific/Easter:20160627T193000
DTEND;TZID=Pacific/Easter:20160627T210000
DTSTAMP:20260129T164704Z
URL:https://grandpianoseries.org/events/steven-beck/
SUMMARY:Steven Beck
DESCRIPTION:\n\n\nBIOGRAPHY\n\n\n\nPianist Steven Beck continues to gather 
 acclaim for his performances and recordings. Recent career highlights incl
 ude performances of Beethoven’s variations and bagatelles at Bargemusic\
 , where he first performed the Beethoven sonata cycle.\nSteven Beck is an 
 experienced performer of new music\, having worked with Elliott Carter\, P
 ierre Boulez\, Henri Dutilleux\, Charles Wuorinen\, George Crumb\, George 
 Perle\, and Fred Lerdahl\, and performed with ensembles such as Speculum M
 usicae and the New York New Music Ensemble. He is a member of the Da Capo 
 Chamber Players\, the Knights\, and the Talea Ensemble. He is also a membe
 r of Quattro Mani\, a piano duo specializing in contemporary music. As an 
 orchestral musician he has appeared with the New York Philharmonic\, the N
 ew York City Ballet Orchestra\, Orpheus\, the Mariinsky Orchestra and many
  others.\nMr. Beck’s discography includes Peter Lieberson’s third pian
 o concerto (for Bridge Records) and a recording of Elliott Carter’s “D
 ouble Concerto” on Albany Records. He is a Steinway Artist.\n\n\n\n\n\n\
 nProgram\n\n\n\n\n\n\n\nRameau: from "Nouvelles Suites de Pièces de Clave
 cin" - Suite in a minor\, RCT 5: 7. Gavotte avec les Doubles de la Gavotte
 \n\nDebussy: Three Etudes from Book 2: No. 7\, 11\, 12\n\nChopin: Prelude 
 in c-sharp minor Op. 45\n\nChopin: Three Mazurkas Op. 59\n\nChopin: Rondo 
 in E-Flat Major Op. 16\n\nScriabin: Piano Sonata No. 3 in f-sharp minor Op
 . 23\n\n&nbsp\;\n\n&nbsp\;\n\n\n\n\n\n\n\n\n\n&nbsp\;\n\n
ATTACH;FMTTYPE=image/jpeg:https://i0.wp.com/grandpianoseries.org/wp-conten
 t/uploads/2026/01/steve-beck-bio-photo-1650x1100-1.webp?fit=700%2C467&ssl=
 1
CATEGORIES:Past Events
END:VEVENT
BEGIN:VTIMEZONE
TZID:Pacific/Easter
X-LIC-LOCATION:Pacific/Easter
BEGIN:STANDARD
DTSTART:20160514T210000
TZOFFSETFROM:-0500
TZOFFSETTO:-0600
TZNAME:-06
END:STANDARD
END:VTIMEZONE
END:VCALENDAR