BEGIN:VCALENDAR
VERSION:2.0
PRODID:-//wp-events-plugin.com//7.2.3.1//EN
BEGIN:VEVENT
UID:61@grandpianoseries.org
DTSTART;TZID=Pacific/Easter:20171210T193000
DTEND;TZID=Pacific/Easter:20171210T210000
DTSTAMP:20230731T001014Z
URL:https://grandpianoseries.org/events/stanislav-khristenko/
SUMMARY:Stanislav Khristenko
DESCRIPTION:\n\nBIOGRAPHY\n\n\n“Mr. Khristenko plays with thoughtful luci
 dity and restraint. While his technique is more than solid\, he has barely
  an ounce of flamboyance about him.”\nThe New York Times\n\nStanislav Kh
 ristenko's performances have captivated audiences on four continents since
  his first solo recital at the age of 11 at the Kharkiv Philharmonic Hall 
 in Ukraine. A “poet of piano” (Le Soir\, Belgium)\, Mr. Khristenko has
  been praised for his emotional intensity\, charismatic expression\, “pa
 llette of touches”\, “solid” and “precise” technique by The New 
 York Times\, The Washington Post and Miami Herald (USA)\; The Gramophone a
 nd BBC Music Magazine (UK) and El Pais (Spain).\n\nAs a concert pianist\, 
 Stanislav Khristenko received prizes at over 30 international piano compet
 itions including Cleveland International Piano Competition\, Maria Canals 
 International Piano Competition and Queen Elisabeth International Music Co
 mpetition. His recordings were released on Steinway&amp\;Sons\, Naxos\, Oe
 hms\, Toccata Classics and recording labels. Mr. Khristenko has appeared a
 s a piano soloist with the Cleveland Orchestra\, Phoenix\, Puerto Rico and
  Richmond Symphonies\, National Orchestra of Belgium\, Bilbao\, Madrid and
  Tenerife Symphony Orchestras\, Liege Royal Philharmonic\, and Suwon Philh
 armonic Orchestra\, among others. His performance highlights include solo 
 recitals at Carnegie Hall\, Vienna Konzerthaus\, Palais de Beaux-Arts in B
 russels\, as well as performances with orchestras in The Berlin Philharmon
 ie\, Seoul Arts Center\, Moscow Conservatory Great Hall\, and Hong Kong Ci
 ty Hall. Stanislav Khristenko is a Steinway Artist.\n\nAn accomplished and
  internationally recognized concert pianist\, Stanislav Khristenko recentl
 y has launched a second career as a conductor. In this role Stanislav Khri
 stenko has appeared with orchestras in Ukraine\, including Kyiv Soloists N
 ational Chamber Orchestra\, Kharkiv Opera Orchestra\; as well as Fargo-Moo
 rhead Symphony\, Concordia Symphony (USA)\, Moravian Philharmonic (Czech R
 epublic) and Kammerphilharmonie Graz (Austria). He has taken part in a num
 ber of conducting workshops in the United States\, Austria\, and Czech Rep
 ublic. Mr. Khristenko received Postgraduate Artistic Training Diploma in c
 onducting from The Fryderyk Chopin University of Music in Warsaw (Poland).
  In the summer of 2016 Stanislav Khristenko has won a Second prize at the 
 Kammerphilharmonie Graz Conducting Competition. Mr. Khristenko is the foun
 der and Music Director of the KharkivMusicFest and Nova Sinfonietta Chambe
 r Orchestra in Kharkiv\, Ukraine.\n\n\n\n\n\nProgram\n\n\n\n\n\n\n\nChopin
 : Polonaise in A-flat major\, op. 53\nBrahms: Four pieces\, op. 119\nProko
 fiev: 5 pieces from the ballet “Romeo and Juliet”\nTchaikovsky-Pletnev
 : 2 pieces from “The Sleeping Beauty”\nTchaikovsky-Pletnev: 2 pieces f
 rom “The Nutcracker”\n\n\n\n\n\n\n\n\n\n\n\nGet Tickets\n\n
ATTACH;FMTTYPE=image/jpeg:https://i0.wp.com/grandpianoseries.org/wp-conten
 t/uploads/2023/01/DSC_3139_kateliu-34.webp?fit=620%2C352&ssl=1
CATEGORIES:Past Events
END:VEVENT
BEGIN:VTIMEZONE
TZID:Pacific/Easter
X-LIC-LOCATION:Pacific/Easter
BEGIN:DAYLIGHT
DTSTART:20170812T230000
TZOFFSETFROM:-0600
TZOFFSETTO:-0500
TZNAME:-05
END:DAYLIGHT
END:VTIMEZONE
END:VCALENDAR