BEGIN:VCALENDAR
VERSION:2.0
PRODID:-//wp-events-plugin.com//7.2.3.1//EN
BEGIN:VEVENT
UID:29@grandpianoseries.org
DTSTART;TZID=Pacific/Easter:20220202T193000
DTEND;TZID=Pacific/Easter:20220202T210000
DTSTAMP:20230731T002454Z
URL:https://grandpianoseries.org/events/santiago-ballerini/
SUMMARY:Santiago Ballerini
DESCRIPTION:\n\n\nSantiago Ballerini is recognized in the Americas as one o
 f the leading tenors of the Bel Canto repertoire and is a celebrated perfo
 rmer in opera houses around the world. He performed  in opera houses like
 : Canadian Opera Company\, Kennedy Center(Washington DC)\, Bordeaux Nation
 al Opera(France) \, Toulon Opera(France) \, Opera Comique (France)\, Natio
 nal opera of Croacia in Zagreb\, Teatro Real(Madrid) \, Teatro Zarzuela(Ma
 drid)\, Teatro Bilbao (ABAO)(Spain)\, Casa du Musica (Portugal)\, Dallas o
 pera\, The Atlanta Opera\, Arizona Opera\,  Teatro Colon  (Buenos Aires)
 \, Teatro Solis (Uruguay)\, Teatro Municipal (Chile)\, Teatro Municipal in
  Rio Du Janeiro (Brazil)\, Teatro Mina Gerais(Brazil)\, Teatro Colsubsidio
  (Colombia) and many festivals in the U.S and Europe.  In the future he i
 s booked to sing at the Hollywood Bowl with the LAPhill conducted by Gusta
 vo Dudamel\; Rigoletto at San Antonio Ópera\, his debut at the May Festiv
 al with the Cincinnati philharmonic orchestra\, back to Teatro La zarzuela
  in Madrid to sing “The Magic Opal”\; back to Teatro Municipal in Chil
 e to sing “La Traviata”\; back at Teatro Colon in Buenos Aires to debu
 t “Pearl Fishers”\; back at the Croatian National Opera in Zagreb to s
 ing “La Traviata” and “La Rondine”  With a growing career\, Balle
 rini is one of the best tenors of his generation singing in most of the be
 st theaters around the world.\n\n\n\n\n\n\n\nProgram\n\n\n\n\n\n\n\n\n\n\n
 \n\n\n\n\nGet Tickets\n\n
ATTACH;FMTTYPE=image/jpeg:https://i0.wp.com/grandpianoseries.org/wp-conten
 t/uploads/2023/01/DSC_3139_kateliu-2-1.webp?fit=680%2C386&ssl=1
CATEGORIES:Past Events
END:VEVENT
BEGIN:VTIMEZONE
TZID:Pacific/Easter
X-LIC-LOCATION:Pacific/Easter
BEGIN:DAYLIGHT
DTSTART:20210904T230000
TZOFFSETFROM:-0600
TZOFFSETTO:-0500
TZNAME:-05
END:DAYLIGHT
END:VTIMEZONE
END:VCALENDAR