BEGIN:VCALENDAR
VERSION:2.0
PRODID:-//wp-events-plugin.com//7.2.3.1//EN
BEGIN:VEVENT
UID:46@grandpianoseries.org
DTSTART;TZID=Pacific/Easter:20191210T193000
DTEND;TZID=Pacific/Easter:20191210T210000
DTSTAMP:20230731T001610Z
URL:https://grandpianoseries.org/events/roman-rabinovich/
SUMMARY:Roman Rabinovich
DESCRIPTION:\n\n\n\nThe eloquent pianist Roman Rabinovich has been highly l
 auded by The New York Times\, BBC Music Magazine\, the San Francisco Class
 ical Voice and others. He has performed throughout Europe and the United S
 tates in venues such as Wigmore Hall in London\, Carnegie Hall and Lincoln
  Centre in New York\, the Great Hall of Moscow Conservatory\, the Cité de
  la Musique in Paris\, and the Millennium Stage of Kennedy Center in Washi
 ngton DC.\n\n\n\n\n​Rabinovich has earned critical praise for his explor
 ations of the piano music of Haydn. At the 2018 Bath Festival\, he present
 ed a 10-recital 42-sonata series\, earning praise in The Sunday Times. Pri
 or to that\, in 2016 as artist in Residence at the Lammermuir Festival in 
 Scotland\, he performed 25 Haydn sonatas in 5 days\, and over two seasons\
 , in 2016 and 2017\, he performed all Haydn’s sonatas in Tel Aviv.\n\nIn
  the 2019-20 season\, Rabinovich will appear three times in NYC\; once at 
 Rockefeller University with the Escher Quartet\, (Brahms Quintet) and in 2
  all-Haydn concerts at the Tisch Center for the Performing Arts. In additi
 on to mixed repertoire recitals in several U.S. cities including Detroit\,
  Naples\, and Schenectady\, Rabinovich will give several concerts with cel
 list Camille Thomas.\n\nLast season (2018-19)\, Rabinovich made concerto a
 ppearances with the Israel Symphony Orchestra\, the Seattle Symphony\, Des
  Moines Symphony and the Orquestra Sinfónica do Porto Casa da Música. Re
 citals included a return to Wigmore Hall\, London\, as well as those at th
 e Liszt Academy Festival\, the Houston Society for the Performing Arts\, i
 n Washington\, DC\, and at the Philip Lorenz Piano Series in Fresno.\n\nRo
 man Rabinovich made his Israel Philharmonic debut under the baton of Zubin
  Mehta at age 10. He was a top prizewinner at the 12th Arthur Rubinstein I
 nternational Piano Master Competition in 2008\, while in 2015\, he was sel
 ected by Sir András Schiff as one of three pianists for the inaugural “
 Building Bridges” series\, created to highlight young pianists of unusua
 l promise.\n\nRoman Rabinovich graduated from the Curtis Institute of Musi
 c as a student of Seymour Lipkin\, and earned his Master’s Degree at The
  Juilliard School where he studied with Robert McDonald.\n\n\n\n\n\nProgra
 m\n\n\n\n\n\n\n\nZipoli: Suite No.2 in G minor\, Op.1\, No. 18\nDebussy: E
 stampes\nSatie: Gnossienne No.1\nRabinovich: Capriccio: A Clown on a Bicyc
 le (2016)\nGershwin: Three Preludes\nGranados: 3 ‘Goyescas’\nStravinsk
 y: Three Movements from Petrushka\n\n\n\n\n\n\n\n\n\n\n\nGet Tickets\n\n
ATTACH;FMTTYPE=image/jpeg:https://i0.wp.com/grandpianoseries.org/wp-conten
 t/uploads/2023/01/DSC_3139_kateliu-18.webp?fit=680%2C386&ssl=1
CATEGORIES:Past Events
END:VEVENT
BEGIN:VTIMEZONE
TZID:Pacific/Easter
X-LIC-LOCATION:Pacific/Easter
BEGIN:DAYLIGHT
DTSTART:20190907T230000
TZOFFSETFROM:-0600
TZOFFSETTO:-0500
TZNAME:-05
END:DAYLIGHT
END:VTIMEZONE
END:VCALENDAR