BEGIN:VCALENDAR
VERSION:2.0
PRODID:-//wp-events-plugin.com//7.2.3.1//EN
BEGIN:VEVENT
UID:41@grandpianoseries.org
DTSTART;TZID=Pacific/Easter:20200302T193000
DTEND;TZID=Pacific/Easter:20200302T210000
DTSTAMP:20260126T221055Z
URL:https://grandpianoseries.org/events/roberto-plano/
SUMMARY:Roberto Plano
DESCRIPTION:\n\n\n\nFirst Prize Winner of the 2001 Cleveland International 
 Piano Competition\, Finalist at the Twelfth Van Cliburn International Pian
 o Competition in 2005\, Laureate of the 2003 Honens International Piano Co
 mpetition (Calgary\, Canada) and the 2006 Axa Dublin International Piano C
 ompetition\, Italian pianist Roberto Plano has performed all over the worl
 d. Important venues in North America include Alice Tully Hall in New York 
 City’s Lincoln Center\, where he performed the American premiere of Luis
  de Pablo’s Retratos y Transcripciones\; Severance Hall in Cleveland\, N
 ational Arts Centre in Ottawa\, and others. He regularly performs in Europ
 e – notably at Sala Verdi in Milan\, Salle Cortot in Paris\, Wigmore Hal
 l and St. John Smith Square in London\, National Concert Hall in Dublin\, 
 and at the Herculessaal and Gasteig in Munich. He has been a featured reci
 talist at internationally acclaimed Festivals such as the Chopin Festival 
 in Duszniki\, Poland\; the Festival at Sandpoint\, the Portland Piano Inte
 rnational Festival\, Savannah Music Festival\, the Wassermann Piano Festiv
 al (UT) and the Newport Music Festival in the USA.\n\n\n\n\nHe has appeare
 d with orchestras in Italy (Milan Symphony Orchestra “Verdi”\, Rome Sy
 mphony)\, Germany (Rheinland-Pfalz)\, Spain (Valencia Symphony)\, Czech Re
 public (Marienbad Symphony)\, Slovakia (Kosice State Symphony)\, Romania (
 Oradea\, Sibiu\, Targu Mures Symphonies)\, Switzerland (Festival Strings\,
  Lucerne)\, the UK (Young Symphony Orchestra)\, Japan (Sendai Symphony)\, 
 USA symphony orchestras (Houston\, Fort Worth\, Spokane\, Akron\, Illinois
  S.O.\, and others)\, under conductors such as James Conlon\, Pinchas Zuck
 erman\, Jahja Ling\, Marcelo Lehninger\, Robert Franz\, Miguel Harth-Bedoy
 a\, Jahja Ling\, Enrique Garcia Assensio\, Gianluigi Gelmetti\, Donato Ren
 zetti\, Ari Raisilianen\, Kerry Stratton and Gary Sheldon. In Canada he ha
 s been soloist with Calgary Philharmonic under the direction of Sir Nevill
 e Marriner.\n\nAs a teacher\, he has given public master classes in presti
 gious University such as Indiana University\, Houston University\, Kent St
 ate University\, Augusta State University\, University of Mississippi\, Ut
 ah State University\, University of Dayton\, the University of Massachuset
 ts (Amherst)\, Boston Conservatory\, the Cleveland Institute of Music\, at
  the Alberta Conservatory (Edmonton\, Canada)\, at the Conservatory of San
  Juan (Puerto Rico)\, and in all the major cities of Schlewsig-Holstein\, 
 Germany\, as well as in Paris at the Ecole Normale Cortot\, in Taiwan\, an
 d throughout North America. During the summer he also regularly presides a
 t the Music International Masterclasses in Portogruaro\, Italy.\n\nAfter j
 oining in 2016 the Faculty of Boston University he has been recently appoi
 nted as Associate Professor of Piano at Indiana University Jacobs School o
 f Music. In January 2018 the American Prize Competition announced that Mr.
  Plano won 1st Prize in the solo professional division.\n\n\n\n\n\nProgram
 \n\n\n\n\n\n\n\nRespighi: Notturno\, from 6 pezzi per pianoforte\nChopin: 
 Mazurke op. 68\nChopin: Casta Diva (from Bellini\, reconstructed by Wojcie
 ch Nowik)\nLiszt: Sposalizio\nLiszt: Miserere du Trovatore S433 (from Verd
 i)\nVilla Lobos: Impressoes seresteiras (from Ciclo brasileiro)\nGinastera
 : Milonga op. 3 “Canción del Arbol Del Olvido”\nGinastera: Suite de d
 anzas criollas op. 15\nGershwin: Rhapsody in blue\n\n\n\n\n\n\n\n\n\n\n\nG
 et Tickets\n\n
ATTACH;FMTTYPE=image/jpeg:https://i0.wp.com/grandpianoseries.org/wp-conten
 t/uploads/2023/01/DSC_3139_kateliu-14.webp?fit=680%2C386&ssl=1
CATEGORIES:Past Events
END:VEVENT
BEGIN:VTIMEZONE
TZID:Pacific/Easter
X-LIC-LOCATION:Pacific/Easter
BEGIN:DAYLIGHT
DTSTART:20190907T230000
TZOFFSETFROM:-0600
TZOFFSETTO:-0500
TZNAME:-05
END:DAYLIGHT
END:VTIMEZONE
END:VCALENDAR