BEGIN:VCALENDAR
VERSION:2.0
PRODID:-//wp-events-plugin.com//7.2.3.1//EN
BEGIN:VEVENT
UID:156@grandpianoseries.org
DTSTART;TZID=Pacific/Easter:20260205T190000
DTEND;TZID=Pacific/Easter:20260205T210000
DTSTAMP:20250917T020907Z
URL:https://grandpianoseries.org/events/reed-tetzloff/
SUMMARY:Reed Tetzloff
DESCRIPTION:\n\n\n\n\nTickets are available through the Artis—Naples box 
 office\nPhone: 239-597-1900\n\n\n\n\n\n\nReed Tetzloff\, described by Rich
 ard Goode as “a musician of great authority\,” has been hailed for his
  “richly communicative” performances (The Cincinnati Enquirer). He cam
 e to international attention at the XV Tchaikovsky Competition\, where he 
 was called “the lyrichero of the competition.” (Сноб Magazine). \n
 \nHe has excited audiences worldwide since making his Lincoln Center conce
 rto debut at Alice Tully Hall in 2012. He has appeared in European venues 
 including the Berlin Philharmonie\, the Laeiszhalle in Hamburg\, Düsseldo
 rf’s Kunstpalast\, the Allerheiligen Hofkirche at the Munich Residenz\, 
 Prague’s Rudolfinum\, the Great Hall of the Moscow Conservatory\, Place 
 Flagey in Brussels\, and De Singel in Antwerp. His frequent solo recitals 
 in the United States have been heard from coast to coast. And in Asia\, he
  has performed in major venues in China\, and his 2023-2024 season include
 s a debut tour of South Korea. \n\nSouth Florida Classical Review recently
  named Tetzloff’s performance of Robert Schumann’s Piano Concerto with
  the Miami International Piano Festival Orchestra as one of the Top Ten Pe
 rformances of 2023\, and wrote: “Combining artistic intelligence\, immac
 ulate technique\, and daredevil bravura\, Tetzloff’s playing was diosync
 ratic in the best sense of the term.”\n\nOther orchestral engagements ha
 ve included the Cincinnati Symphony Orchestra\, the Minnesota Orchestra\, 
 the Moscow Virtuosi Chamber Orchestra\, the Prague Philharmonic Orchestra\
 , the Rochester Philharmonic Orchestra\, the Tbilisi Symphony Orchestra\, 
 and the Wisconsin Philharmonic Orchestra\, among many others. \n\nTetzloff
  has been in residence at festivals such as the Grand Teton Music Festival
 \, the International Keyboard Institute and Festival\, the Miami Internati
 onal Piano Festival\, and the Festival de Musique de Wissembourg in France
 . Reed Tetzloff received career grants from Charlotte White’s Salon de V
 irtuosi and from the Center for Musical Excellence\, which sponsored his d
 ebut album Sounds of Transcendence on the Romeo Records label. Reviewing t
 he album\, Patrick Rucker in Gramophone Magazine extolled his “kaleidosc
 opic colors” and “ferventrapture” in music of Franck\, Scriabin\, an
 d Charles Griffes. Subsequently\, he recorded two albums for the Master Pe
 rformers label\; the first\, featuring piano works of Robert Schumann\, wa
 s released in 2021 and noted for its “originality and uncommon perceptiv
 eness” (Voix des Arts). \n\n\n\n\n\nProgram\nErik Satie: Valse\, ‘Poud
 re d’or’\nPhilip Lasser: Sonate pour piano\, "Les Hiboux Blancs”\n1.
  Vif\n2. Lent mais sans traîner\n3. Léger et vif en style de toccata\, P
 oco Allegro\nFryderik Chopin: Nocturne in E flat major\, Op. 55\, No. 2\nF
 ryderik Chopin: Fantaisie in F minor\, Op. 49\nIntermission\nGeorge Gershw
 in: Songbook: 18 Songs for Solo Piano\nSwannee\nNobody but You\nI’ll Bui
 ld a Stairway to Paradise\nDo It Again\nFascinating Rhythm\nOh\, Lady Be G
 ood\nSomebody Loves Me\nSweet and Low Down\nThat Certain Feeling\nThe Man 
 I Love\nClap Yo’ Hands\nDo-do-do\nMy One and Only\n’S Wonderful\nStrik
 e Up the Band\nLiza—All the Clouds’ll Roll Away\nI Got Rhythm\nWho Car
 es as Long as You Care for Me?\nLeopold Godowsky: Symphonic Metamorphosis 
 on themes from J. Strauss’ Die Fledermaus\n\n\n\n\n\n\n\n\nGet Tickets\n
 \n
ATTACH;FMTTYPE=image/jpeg:https://i0.wp.com/grandpianoseries.org/wp-conten
 t/uploads/2025/09/GPS_Reed_Tetzloff_10_PH_Brian_HattonTop.webp?fit=2560%2C
 1463&ssl=1
CATEGORIES:Past Events
LOCATION:Artis—Naples (Daniels Pavilion)\, 5833 Pelican Bay Boulevard\, N
 aples\, FL\, 34108-2740\, United States
X-APPLE-STRUCTURED-LOCATION;VALUE=URI;X-ADDRESS=5833 Pelican Bay Boulevard\
 , Naples\, FL\, 34108-2740\, United States;X-APPLE-RADIUS=100;X-TITLE=Arti
 s—Naples (Daniels Pavilion):geo:0,0
END:VEVENT
BEGIN:VTIMEZONE
TZID:Pacific/Easter
X-LIC-LOCATION:Pacific/Easter
BEGIN:DAYLIGHT
DTSTART:20250906T230000
TZOFFSETFROM:-0600
TZOFFSETTO:-0500
TZNAME:-05
END:DAYLIGHT
END:VTIMEZONE
END:VCALENDAR