BEGIN:VCALENDAR
VERSION:2.0
PRODID:-//wp-events-plugin.com//7.2.3.1//EN
BEGIN:VEVENT
UID:79@grandpianoseries.org
DTSTART;TZID=Pacific/Easter:20230109T193000
DTEND;TZID=Pacific/Easter:20230111T210000
DTSTAMP:20260127T001620Z
URL:https://grandpianoseries.org/events/rachel-kudo/
SUMMARY:Rachel Naomi Kudo
DESCRIPTION:\n\n\n\nWinner of the Johann Sebastian Bach Competition in Leip
 zig\, American pianist Rachel Naomi Kudo is captivating audiences with her
  "heartfelt\, courageous and perfect playing” (Lübecker Nachrichten) an
 d as a “thrilling” artist with “the highest artistic claim who demon
 strates a perfection of technique and precision down to the smallest motiv
 ic detail” (Die Rheinpfalz).\n\n\n\n\nBorn in Washington\, D.C.\, to Jap
 anese-Korean parents\, Rachel began her studies with Emilio del Rosario at
  the Music Institute of Chicago. Shortly following her debut with the Chic
 ago and Fort Worth Symphony Orchestras\, she was a finalist of the 15th In
 ternational Chopin Competition in Warsaw and winner of the Gilmore Young A
 rtist Award.\n\nRachel received the Arthur Rubinstein Prize and Chopin Pri
 ze under the tutelage of Yoheved Kaplinsky and Joseph Kalichstein at The J
 uilliard School\, and continued her studies with Richard Goode at Mannes C
 ollege\, Gilbert Kalish at Stony Brook University\, and Leon Fleisher at t
 he Peabody Institute. She received guidance from Robert Levin\, and Emanue
 l Ax and Sir András Schiff at Carnegie Hall's Professional Training Works
 hops.\n\nMost recently\, Rachel was engaged as a live stream host for the 
 18th International Chopin Competition in Warsaw\, and presented the world 
 premiere of Marc-André Hamelin’s Suite à l'ancienne\, which she commis
 sioned with her funding from the Gilmore Piano Festival.\n\n\n\n\n\nProgra
 m\n\n\n\n\n\n\nBach French Suite No.2 in C minor BWV813 \nBrahms 16 Waltze
 s Op.39 \nBach Partita No.1 in B-flat major BWV825\nSchumann Papillons Op.
 2 \nSchumann Carnival Op.9\n\n\n\n\n\n\n\n&nbsp\;\n\n\nGet Tickets\n\n
ATTACH;FMTTYPE=image/jpeg:https://i0.wp.com/grandpianoseries.org/wp-conten
 t/uploads/2023/02/1-9-2023-and-1-11-2023.jpeg?fit=1200%2C777&ssl=1
CATEGORIES:Past Events
END:VEVENT
BEGIN:VTIMEZONE
TZID:Pacific/Easter
X-LIC-LOCATION:Pacific/Easter
BEGIN:DAYLIGHT
DTSTART:20220910T230000
TZOFFSETFROM:-0600
TZOFFSETTO:-0500
TZNAME:-05
END:DAYLIGHT
END:VTIMEZONE
END:VCALENDAR