BEGIN:VCALENDAR
VERSION:2.0
PRODID:-//wp-events-plugin.com//7.2.3.1//EN
BEGIN:VEVENT
UID:19@grandpianoseries.org
DTSTART;TZID=Pacific/Easter:20230318T110000
DTEND;TZID=Pacific/Easter:20230318T120000
DTSTAMP:20230821T230148Z
URL:https://grandpianoseries.org/events/online-pre-concert-talk-magdalena-
 baczewska-on-opera-transriptions/
SUMMARY:Online Pre-Concert Talk: Magdalena Baczewska on Opera Transriptions
DESCRIPTION:\n\nHailed by the press as “One of the most innovative\, even
  radical classical keyboardists in the U.S.” and described as “Columbi
 a University professor by day\, musical sorceress by night\,” pianist an
 d harpsichordist Magdalena Baczewska [ba-CHEV-ska] enjoys a multifaceted 
 career as a concert artist\, educator\, and speaker. Having made her solo 
 debut with the Silesian Philharmonic Orchestra at age 12 in her native Pol
 and\, Baczewska performed internationally with the world’s leading orche
 stras: Philadelphia Orchestra\, San Francisco Symphony\, China National Sy
 mphony\, Vancouver Symphony\, among others. She has been praised for her "
 magnificent\, unique voice that stylistically never falters" (Classical Mu
 sic Guide)\, “world-class playing” by the American Record Guide\, and 
 hailed as “eloquent and technically flawless” by The Washington Post.\
 n\nThe first pianist to play J.S. Bach’s Goldberg Variations twice in on
 e evening--first on the harpsichord\, then on piano--since Rosalyn Tureck
 ’s 1977 double-bill Carnegie Hall performance\, Baczewska has toured Eur
 ope and the U.S with double performances of the Variations\, having also r
 ecorded them along with Strauss’ Sonata Op. 5 for her critically-acclaim
 ed album A Tribute to Glenn Gould.\n\nBaczewska collaborates extensively w
 ith the Oscar and Grammy Award-winning composer Tan Dun\, performing his m
 usic internationally. Performance highlights include a debut at the Tangle
 wood Music Festival\, soloist appearances with the San Francisco Symphony\
 , Philadelphia Orchestra\, China National Symphony\, and a Canadian premie
 re of Tan Dun's Piano Concerto with the Vancouver Symphony Orchestra. At t
 he invitation of the composer\, Baczewska also recorded his chamber music 
 and the Sonata for Piano Solo in Shanghai’s famous Water Heavens Hall.\n
 \nBaczewska is a professor of music and Director of the Music Performance 
 Program at Columbia University. She is a recipient of the Outstanding Achi
 evement Award from the Polish Minister of Culture and National Heritage\, 
 Bogdan Zdrojewski\, for promoting Polish culture abroad.\n\nThe Palm Beach
  Arts Paper writes "Baczewska enlightens.” As an avid educator\, she has
  given master classes and lectures around the world: Beijing Central Conse
 rvatory\, New York University\, Hong Kong Academy for Performing Arts\, Ma
 nhattan School of Music\, International Keyboard Institute\, to name a few
 . As a Yamaha Artist\, Baczewska has used the technology pioneered by Yama
 ha Disklavier\, to give remote master classes at the Microsoft School of t
 he Future\, Elon University\, and Hartt School of Music. In her spare time
  she volunteers through Selfhelp\, Inc.\, teaching music appreciation onli
 ne at the Virtual Senior Center. During the COVID-19 pandemic Baczewska pr
 oduced a video series Bach@Home\, available on YouTube\, containing piano 
 and harpsichord performances and analysis of works by J.S. Bach\, and othe
 r composers. While in lockdown she partnered with the Grand Piano Series i
 n Florida\, and the Chopin Society of Atlanta\, designing and delivering a
 n interactive series of online music appreciation lectures and discussions
  for seniors\, and separately for small children\, under the title "The En
 joyment of Music." Her musical mission\, in addition to sharing the timele
 ss beauty of the music itself\, is to educate her audiences in each perfor
 mance\, by giving them tools to enjoy music more profoundly.\n\nBaczewska
 ’s discography encompasses a variety of styles\, ranging from classical 
 to hip-hop. Together with composer/DJ Gene Pritsker\, Baczewska released a
 n album for the harpsichord and samplestra Hip-Hopsichord. She also collab
 orated with Pritsker on a remix of Music for Dreams - a crossover between 
 classical style and chillhop. Baczewska has also collaborated with the Blu
 eSleep medical team specialized in research and treatment of sleep disorde
 rs. Among her releases are three best-selling albums Music for Dreams\, an
 d music for MetroNaps’ EnergyPod®\, popularized by Google.\n\nBaczewska
  holds Bachelor’s and Master’s degrees from Mannes College The New Sch
 ool for Music\, and a Doctor of Musical Arts degree from Manhattan School 
 of Music. Her doctoral dissertation\, In Search of Bach’s Cantabile: The
  Role and Aspects of Oratory and Singing in Keyboard Interpretation was pu
 blished by Lambert Academic Publishing.\n\nFor more information and discog
 raphy\, visit MagdalenaNYC.com\n\n\n\n\n\n\n\n\n\n\n\n\nComposers through
 out the history of the Western Music have been much influenced by vocal mu
 sic. Pianists all around the globe strive to make their pianos ‘sing.’
  In this pre-concert lecture\, Magdalena Baczewska introduces gems of the 
 piano repertoire that have been directly inspired by opera and art song. H
 ow does one handle the vocal style\, and larger-than-life plots and passio
 ns\, with just two hands?\n\nMagdalena Baczewska\, pianist\, harpsichordis
 t\, and the Director of the Music Performance Program at Columbia Universi
 ty\, returns to the Grand Piano Series\, following her pandemic lecture se
 ries “Enjoyment of Music.”\n\nThis event will be held virtually via Zo
 om. Register for the event to get the zoom link. For help registering\, pl
 ease call 469-333-3231.\n\n\n\n\n\n\n\n\n\n\n\n\n\n&nbsp\;\n\n\nGet Ticke
 ts\n\n
ATTACH;FMTTYPE=image/jpeg:https://i0.wp.com/grandpianoseries.org/wp-conten
 t/uploads/2023/01/71bee8_9b7efbed877141c7ab7f615087ff1631_mv2-1.webp?fit=9
 79%2C552&ssl=1
CATEGORIES:Past Events
LOCATION:#
END:VEVENT
BEGIN:VTIMEZONE
TZID:Pacific/Easter
X-LIC-LOCATION:Pacific/Easter
BEGIN:DAYLIGHT
DTSTART:20220910T230000
TZOFFSETFROM:-0600
TZOFFSETTO:-0500
TZNAME:-05
END:DAYLIGHT
END:VTIMEZONE
END:VCALENDAR