BEGIN:VCALENDAR
VERSION:2.0
PRODID:-//wp-events-plugin.com//7.2.3.1//EN
BEGIN:VEVENT
UID:14@grandpianoseries.org
DTSTART;TZID=Pacific/Easter:20230218T110000
DTEND;TZID=Pacific/Easter:20230218T120000
DTSTAMP:20230821T231025Z
URL:https://grandpianoseries.org/events/online-pre-concert-talk-magdalena-
 baczewska-ohrwurm/
SUMMARY:Online Pre-Concert Talk: Magdalena Baczewska - Ohrwurm
DESCRIPTION:\n\nHailed by the press as “One of the most innovative\, even
  radical classical keyboardists in the U.S.” and described as “Columbi
 a University professor by day\, musical sorceress by night\,” pianist an
 d harpsichordist Magdalena Baczewska [ba-CHEV-ska] enjoys a multifaceted 
 career as a concert artist\, educator\, and speaker. Having made her solo 
 debut with the Silesian Philharmonic Orchestra at age 12 in her native Pol
 and\, Baczewska performed internationally with the world’s leading orche
 stras: Philadelphia Orchestra\, San Francisco Symphony\, China National Sy
 mphony\, Vancouver Symphony\, among others. She has been praised for her "
 magnificent\, unique voice that stylistically never falters" (Classical Mu
 sic Guide)\, “world-class playing” by the American Record Guide\, and 
 hailed as “eloquent and technically flawless” by The Washington Post.\
 n\nThe first pianist to play J.S. Bach’s Goldberg Variations twice in on
 e evening--first on the harpsichord\, then on piano--since Rosalyn Tureck
 ’s 1977 double-bill Carnegie Hall performance\, Baczewska has toured Eur
 ope and the U.S with double performances of the Variations\, having also r
 ecorded them along with Strauss’ Sonata Op. 5 for her critically-acclaim
 ed album A Tribute to Glenn Gould.\n\nBaczewska collaborates extensively w
 ith the Oscar and Grammy Award-winning composer Tan Dun\, performing his m
 usic internationally. Performance highlights include a debut at the Tangle
 wood Music Festival\, soloist appearances with the San Francisco Symphony\
 , Philadelphia Orchestra\, China National Symphony\, and a Canadian premie
 re of Tan Dun's Piano Concerto with the Vancouver Symphony Orchestra. At t
 he invitation of the composer\, Baczewska also recorded his chamber music 
 and the Sonata for Piano Solo in Shanghai’s famous Water Heavens Hall.\n
 \nBaczewska is a professor of music and Director of the Music Performance 
 Program at Columbia University. She is a recipient of the Outstanding Achi
 evement Award from the Polish Minister of Culture and National Heritage\, 
 Bogdan Zdrojewski\, for promoting Polish culture abroad.\n\nThe Palm Beach
  Arts Paper writes "Baczewska enlightens.” As an avid educator\, she has
  given master classes and lectures around the world: Beijing Central Conse
 rvatory\, New York University\, Hong Kong Academy for Performing Arts\, Ma
 nhattan School of Music\, International Keyboard Institute\, to name a few
 . As a Yamaha Artist\, Baczewska has used the technology pioneered by Yama
 ha Disklavier\, to give remote master classes at the Microsoft School of t
 he Future\, Elon University\, and Hartt School of Music. In her spare time
  she volunteers through Selfhelp\, Inc.\, teaching music appreciation onli
 ne at the Virtual Senior Center. During the COVID-19 pandemic Baczewska pr
 oduced a video series Bach@Home\, available on YouTube\, containing piano 
 and harpsichord performances and analysis of works by J.S. Bach\, and othe
 r composers. While in lockdown she partnered with the Grand Piano Series i
 n Florida\, and the Chopin Society of Atlanta\, designing and delivering a
 n interactive series of online music appreciation lectures and discussions
  for seniors\, and separately for small children\, under the title "The En
 joyment of Music." Her musical mission\, in addition to sharing the timele
 ss beauty of the music itself\, is to educate her audiences in each perfor
 mance\, by giving them tools to enjoy music more profoundly.\n\nBaczewska
 ’s discography encompasses a variety of styles\, ranging from classical 
 to hip-hop. Together with composer/DJ Gene Pritsker\, Baczewska released a
 n album for the harpsichord and samplestra Hip-Hopsichord. She also collab
 orated with Pritsker on a remix of Music for Dreams - a crossover between 
 classical style and chillhop. Baczewska has also collaborated with the Blu
 eSleep medical team specialized in research and treatment of sleep disorde
 rs. Among her releases are three best-selling albums Music for Dreams\, an
 d music for MetroNaps’ EnergyPod®\, popularized by Google.\n\nBaczewska
  holds Bachelor’s and Master’s degrees from Mannes College The New Sch
 ool for Music\, and a Doctor of Musical Arts degree from Manhattan School 
 of Music. Her doctoral dissertation\, In Search of Bach’s Cantabile: The
  Role and Aspects of Oratory and Singing in Keyboard Interpretation was pu
 blished by Lambert Academic Publishing.\n\nFor more information and discog
 raphy\, visit MagdalenaNYC.com\n\n\n\n\n\n\n\n\n\n\n\n\n\n\n\nDer Ohrwurm
 \, in German\, simply means earworm. In modern language\, the term is refe
 rred to a tune that lives in one’s head. In this pre-concert lecture\, M
 agdalena Baczewska takes the audience on an enchanted musical journey thro
 ugh Europe\, starting in the 16th century\, introducing the tunes and danc
 e melodies that have become earworms over many centuries\, into modern tim
 es. The instruments will also be discussed - while you may be familiar wit
 h the recorder\, wait until you see the archlute!\n\nMagdalena Baczewska\,
  pianist\, harpsichordist\, and the Director of the Music Performance Prog
 ram at Columbia University\, returns to the Grand Piano Series\, following
  her pandemic lecture series “Enjoyment of Music.”\n\nThis event will 
 be held virtually via Zoom. Register for the event to get the zoom link. F
 or help registering\, please call 469-333-3231.\n\n\n\n\n\n\n\n\n\n\n\n\n
 \n\n&nbsp\;\n\n\nGet Tickets\n\n
ATTACH;FMTTYPE=image/jpeg:https://i0.wp.com/grandpianoseries.org/wp-conten
 t/uploads/2023/01/87012_event_md_510.jpg?fit=1200%2C801&ssl=1
CATEGORIES:Past Events
LOCATION:#
END:VEVENT
BEGIN:VTIMEZONE
TZID:Pacific/Easter
X-LIC-LOCATION:Pacific/Easter
BEGIN:DAYLIGHT
DTSTART:20220910T230000
TZOFFSETFROM:-0600
TZOFFSETTO:-0500
TZNAME:-05
END:DAYLIGHT
END:VTIMEZONE
END:VCALENDAR