BEGIN:VCALENDAR
VERSION:2.0
PRODID:-//wp-events-plugin.com//7.2.3.1//EN
BEGIN:VEVENT
UID:15@grandpianoseries.org
DTSTART;TZID=Pacific/Easter:20230226T150000
DTEND;TZID=Pacific/Easter:20230226T160000
DTSTAMP:20230821T230601Z
URL:https://grandpianoseries.org/events/ohrwurm-tabea-debus-adam-cockerham
 -trinity-2-26-3-pm/
SUMMARY:Ohrwurm: Tabea Debus & Adam Cockerham (Trinity) 2/26 - 3 PM
DESCRIPTION:\n\nDescribed by The Times as a charismatic virtuoso Tabea De
 bus is constantly exploring the horizons of music for recorder and has pe
 rformed widely in Europe\, Asia\, North and South America. Highlights inc
 lude concerts at Wigmore Hall\, Early Music Series in London and San Franc
 isco\, Spoleto Festival USA\, Festspiele Mecklenburg-Vorpommern\, and coll
 aborations with La Serenissima and The English Concert.\n\nTabea has been 
 awarded numerous prizes such as the CAG Innovation Award\, the Soloists P
 rize at the Festspiele Mecklenburg-Vorpommern and 1st prize at the SRP/M
 oeck International Solo Recorder Competition.\n\nEarly music artist Adam 
 Cockerham specializes in theorbo\, lute and baroque guitar. As an accompa
 nist and continuo player\, Cockerham has performed with numerous ensembles
  – Philharmonia Baroque Orchestra\, Handel and Haydn Society\, Trinity B
 aroque Orchestra\, the Mostly Mozart Festival\, Spoleto Festival USA\, Fou
 r Nations Ensemble\, ARTEK\, the Academy of Sacred Drama and J415. He foun
 ded voice and plucked string duo Jarring Sounds with mezzo-soprano Daniell
 e Reutter-Harrah.\n\nCockerham’s discography includes recordings with Ja
 rring Sounds\, El Mundo\, ARTEK\, Trinity Baroque Orchestra\, NOVUS NY\, A
 ugusta McKay Lodge\, and Emi Ferguson + Ruckus.\n\n\n\n\n\n\n\n\n\n\n\n\n\
 nProgram for recorder &amp\; archlute.\n\n"Ohrwurm" explores how tunes and
  dances wormed their way into many aspects of music-making in seventeenth
  and eighteenth-century Europe. The world's leading artists specializing
  in recorder and archlute will take us on an unforgettable musical journey
  spanning 500 years.\n\nFor help purchasing tickets\, please call 469-333
 -3231.\n\n&nbsp\;\n\n\n\n\n\n\n\n\n\n\n\n\n\n\nGet Tickets\n\n
ATTACH;FMTTYPE=image/jpeg:https://i0.wp.com/grandpianoseries.org/wp-conten
 t/uploads/2023/01/78984_event_md.png?fit=2550%2C1700&ssl=1
CATEGORIES:Past Events
END:VEVENT
BEGIN:VTIMEZONE
TZID:Pacific/Easter
X-LIC-LOCATION:Pacific/Easter
BEGIN:DAYLIGHT
DTSTART:20220910T230000
TZOFFSETFROM:-0600
TZOFFSETTO:-0500
TZNAME:-05
END:DAYLIGHT
END:VTIMEZONE
END:VCALENDAR