BEGIN:VCALENDAR
VERSION:2.0
PRODID:-//wp-events-plugin.com//7.2.3.1//EN
BEGIN:VEVENT
UID:153@grandpianoseries.org
DTSTART;TZID=Pacific/Easter:20251217T150000
DTEND;TZID=Pacific/Easter:20251217T160000
DTSTAMP:20250917T020818Z
URL:https://grandpianoseries.org/events/narrative-musicale-the-nutcracker-
 origins/
SUMMARY:Narrative Musicale: The Nutcracker Origins
DESCRIPTION:\n\n\n\n\nTickets are available through the Artis—Naples box 
 office\nPhone: 239-597-1900\n\n\n\n\n\n\n\nKonstantin Soukhovetski is a pi
 anist\, composer\, and educator who is the winner of 17 awards from presti
 gious international piano competitions. Soukhovetski has performed to crit
 ical acclaim at leading venues including Carnegie Hall\, Lincoln Center\, 
 Wigmore Hall (London)\, and the Louvre (Paris).\n\nAs the newly appointed 
 Director of Education and Community Engagement at Grand Piano Series in Na
 ples\, Soukhovetski brings his dynamic combination of performance and audi
 ence interaction honed through his acclaimed presentations on music at the
  Curtis Institute of Music\, Northwestern University\, Singapore’s Acade
 my of Music\, Latvia’s Jelgava Music School and as an adjunct faculty me
 mber at his alma mater\, The Juilliard School. Born in Moscow to a family 
 of artists\, Soukhovetski studied at the Moscow Central Music School\, whe
 re he double majored in piano and composition.\n\nSoukhovetski’s Pride S
 uite for piano is enjoying world premieres this season\, and his first sym
 phonic work\, Once Upon the Spring\, was performed with the Auburn Symphon
 y in California and the Greater Connecticut Youth Orchestras. He now resid
 es in Naples\, where he enjoys the rich cultural offerings\, beautiful wea
 ther\, and the thriving artistic community.\n\n\n\n\n\nProgram\nUncover th
 e dark twists of the original fairytale and hear Tchaikovsky’s iconic sc
 ore performed on piano\, synced with rare ballet footage\, brought to life
  through Konstantin’s riveting commentary. As both performer and storyte
 ller\, he brings depth and wit to the familiar story. Get ready to be surp
 rised\, delighted\, and inspired. \nSelections from Tchaikovsky’s The Nu
 tcracker\, arr. Pletnev\, Soukhovetski\n\n\n\n\n\n\n\nGet Tickets\n\n
ATTACH;FMTTYPE=image/jpeg:https://i0.wp.com/grandpianoseries.org/wp-conten
 t/uploads/2025/09/KonstantinSoukovetski-36_Credit_Zee-Anna-Photography-sca
 led.webp?fit=2560%2C1703&ssl=1
CATEGORIES:Past Events
LOCATION:Artis—Naples (Ubben Signature Event Space)\, 5833 Pelican Bay Bo
 ulevard\, Naples\, FL\, 34108-2740\, United States
X-APPLE-STRUCTURED-LOCATION;VALUE=URI;X-ADDRESS=5833 Pelican Bay Boulevard\
 , Naples\, FL\, 34108-2740\, United States;X-APPLE-RADIUS=100;X-TITLE=Arti
 s—Naples (Ubben Signature Event Space):geo:0,0
END:VEVENT
BEGIN:VTIMEZONE
TZID:Pacific/Easter
X-LIC-LOCATION:Pacific/Easter
BEGIN:DAYLIGHT
DTSTART:20250906T230000
TZOFFSETFROM:-0600
TZOFFSETTO:-0500
TZNAME:-05
END:DAYLIGHT
END:VTIMEZONE
END:VCALENDAR