BEGIN:VCALENDAR
VERSION:2.0
PRODID:-//wp-events-plugin.com//7.2.3.1//EN
BEGIN:VEVENT
UID:60@grandpianoseries.org
DTSTART;TZID=Pacific/Easter:20180305T193000
DTEND;TZID=Pacific/Easter:20180305T210000
DTSTAMP:20230731T001119Z
URL:https://grandpianoseries.org/events/magdalena-stern-baczewska/
SUMMARY:Magdalena Stern-Baczewska
DESCRIPTION:\n\nBIOGRAPHY\n\n\nPolish-born pianist and harpsichordist MAGDA
 LENA BACZEWSKA [ba-CHEV-ska] has enjoyed a multifaceted career as concerti
 zer\, educator\, recording artist\, producer\, and administrator. Director
  of the Music Performance Program and Lecturer in Music at Columbia Univer
 sity in the City of New York\, Baczewska has been acclaimed as a “world-
 class” musician (The American Record Guide)\, lauded as “eloquent &amp
 \; technically flawless” (The Washington Post) and “highly sophisticat
 ed and truly admirable” (The Weekend\, New York) in her “taste and adm
 irable sensitivity” (Palm Beach Arts Paper).\nAn avid educator\, Baczews
 ka teaches full-time at Columbia University and as a visiting professor at
  Accademia Europea Villa Bossi in Varese\, Italy. She has been invited to 
 conduct masterclasses at the Hong Kong Academy of Performing arts\, having
  appeared as masterclass artist in the Beijing Central Conservatory\, Gras
 sland International Music Festival (Hohhot\, Inner Mongolia)\; the Interna
 tional Keyboard Institute and Festival (NYC)\; the New York Piano Festival
  (NYC)\, New Music School (Chicago)\, and Charleston Southern University\,
  among others.\n\n\n\n\n\nProgram\n\n\n\n\n\n\n\nCouperin: 8 pieces from O
 rdre 1er de clavecin in g minor\nRavel: Pavane pour une infante defunte\nR
 ameau: 3 pieces from Suite in e minor\, RCT 2\nRavel: Jeaux d'eau\nRameau:
  from Suite in G Major/g minor\, RCT 6 - N. 4 "La Poule"\nDebussy: Images 
 2nd Book\n\n\n\n\n\n\n\n\n\n\n\nGet Tickets\n\n
ATTACH;FMTTYPE=image/jpeg:https://i0.wp.com/grandpianoseries.org/wp-conten
 t/uploads/2023/01/DSC_3139_kateliu-33.webp?fit=680%2C386&ssl=1
CATEGORIES:Past Events
END:VEVENT
BEGIN:VTIMEZONE
TZID:Pacific/Easter
X-LIC-LOCATION:Pacific/Easter
BEGIN:DAYLIGHT
DTSTART:20170812T230000
TZOFFSETFROM:-0600
TZOFFSETTO:-0500
TZNAME:-05
END:DAYLIGHT
END:VTIMEZONE
END:VCALENDAR