BEGIN:VCALENDAR
VERSION:2.0
PRODID:-//wp-events-plugin.com//7.2.3.1//EN
BEGIN:VEVENT
UID:10@grandpianoseries.org
DTSTART;TZID=Pacific/Easter:20200708T110000
DTEND;TZID=Pacific/Easter:20200708T130000
DTSTAMP:20230821T232824Z
URL:https://grandpianoseries.org/events/magdalena-on-bach/
SUMMARY:Magdalena on Bach
DESCRIPTION:About the Event\n\n\n\n\nMAGDALENA BACZEWSKA:\n\nPolish-born pi
 anist and harpsichordist MAGDALENA BACZEWSKA [ba-CHEV-ska] has enjoyed a m
 ultifaceted career as concertizer\, educator\, recording artist\, producer
 \, and administrator. Director of the Music Performance Program and Lect
 urer in Music at Columbia University in the City of New York\, Baczewska h
 as been acclaimed as a “world-class” musician (The American Record Gui
 de)\, lauded as “eloquent &amp\; technically flawless” (The Washington
  Post) and “highly sophisticated and truly admirable” (The Weekend\, N
 ew York) in her “taste and admirable sensitivity” (Palm Beach Arts Pap
 er).\n\nAn avid educator\, Baczewska teaches full-time at Columbia Univers
 ity and as visiting professor at Accademia Europea Villa Bossi in Varese
 \, Italy. She has been invited to conduct masterclasses at the Hong Kong A
 cademy of Performing arts\, having appeared as masterclass artist in the B
 eijing Central Conservatory\, Grassland International Music Festival (Hohh
 ot\, Inner Mongolia)\; the International Keyboard Institute and Festival (
 NYC)\; the New York Piano Festival (NYC)\, New Music School (Chicago)\, an
 d Charleston Southern University\, among others.\n\n\n\n
ATTACH;FMTTYPE=image/jpeg:https://i0.wp.com/grandpianoseries.org/wp-conten
 t/uploads/2023/01/71bee8_9b7efbed877141c7ab7f615087ff1631_mv2-1.webp?fit=9
 79%2C552&ssl=1
CATEGORIES:Past Events
END:VEVENT
BEGIN:VTIMEZONE
TZID:Pacific/Easter
X-LIC-LOCATION:Pacific/Easter
BEGIN:STANDARD
DTSTART:20200404T210000
TZOFFSETFROM:-0500
TZOFFSETTO:-0600
TZNAME:-06
END:STANDARD
END:VTIMEZONE
END:VCALENDAR