BEGIN:VCALENDAR
VERSION:2.0
PRODID:-//wp-events-plugin.com//7.2.3.1//EN
BEGIN:VEVENT
UID:93@grandpianoseries.org
DTSTART;TZID=America/New_York:20230925T180000
DTEND;TZID=America/New_York:20230925T200000
DTSTAMP:20231101T120312Z
URL:https://grandpianoseries.org/events/mackenzie-melemed-2/
SUMMARY:Mackenzie Melemed
DESCRIPTION:\n\n\n\nWinner of the Jade Medal at the 2019 China Internationa
 l Music Competition and recipient of The Juilliard School's 2019 Leo B. Ru
 iz Carnegie Hall Recital Prize and 2018 Arthur Rubinstein Piano Prize\, 25
 -year-old American pianist Mackenzie Melemed’s international career cont
 inues to flourish. Praised by the New York Times as an "excellent young pi
 anist" he has performed throughout the United States\, in China\, the Czec
 h Republic\, Finland\, France\, Japan\, Korea\, Poland\, Sweden and Switze
 rland.\n\n\n\n\n\n\n\n\n\n\n\n\n\n\n\n\n\n
ATTACH;FMTTYPE=image/jpeg:https://i0.wp.com/grandpianoseries.org/wp-conten
 t/uploads/2023/09/MMelemed-DSC_6405.jpg?fit=680%2C385&ssl=1
CATEGORIES:Past Events
LOCATION:Lynn University\, 3601 North Military Trail\, Boca Raton\, FL\, 33
 431\, United States
X-APPLE-STRUCTURED-LOCATION;VALUE=URI;X-ADDRESS=3601 North Military Trail\,
  Boca Raton\, FL\, 33431\, United States;X-APPLE-RADIUS=100;X-TITLE=Lynn U
 niversity:geo:0,0
END:VEVENT
BEGIN:VTIMEZONE
TZID:America/New_York
X-LIC-LOCATION:America/New_York
BEGIN:DAYLIGHT
DTSTART:20230312T030000
TZOFFSETFROM:-0500
TZOFFSETTO:-0400
TZNAME:EDT
END:DAYLIGHT
END:VTIMEZONE
END:VCALENDAR