BEGIN:VCALENDAR
VERSION:2.0
PRODID:-//wp-events-plugin.com//7.2.3.1//EN
BEGIN:VEVENT
UID:88@grandpianoseries.org
DTSTART;TZID=Pacific/Easter:20240229T193000
DTEND;TZID=Pacific/Easter:20240229T210000
DTSTAMP:20250910T195918Z
URL:https://grandpianoseries.org/events/konstantin-soukhovetski/
SUMMARY:Konstantin Soukhovetski
DESCRIPTION:\n\n\n"Konstantin’s charming personality\, interesting anecdo
 tes\, and mastery of ivories hold the audience in a trance...”- Dan’s 
 Papers\n\n\n\n2019 Innovation Award Winner from the Music Academy Of The W
 est\, Konstantin has a singular artistic voice that communicates with and 
 engages audiences worldwide. Konstantin’s creative output continuously i
 nnovates\, frequently involving multidisciplinary projects with dance and 
 film.\n\nIn 2020 Konstantin joined the adjunct faculty of his alma mater\,
  The Juilliard School\, where he received his BM\, MM\, and AD with Jerome
  Lowenthal. In 2022 Konstantin was named Director of Pedagogy and Narrativ
 e Musicianship at Bronx School For Music. This Season Konstantin’s perfo
 rmances include a return to NYC’s Lincoln Center’s Alice Tully Hall wi
 th Pegasus: The Orchestra and Brooklyn Chamber Orchestra. Konstantin tours
  nationally\, appearing at Conrad Theater in La Jolla\, CA\, and internati
 onally at San Sebástian's Victoria-Eugenia Theater and Centro Cívico Arr
 ecife in Spain and the Canary Islands.\n\nThis season Konstantin is thrill
 ed to premiere his original composition “The Pride Suite” for solo pia
 no\, commissioned by ProtoStar Group. It will be published by Spain’s OE
  Oficina in 2023 and recorded in 2024. In addition\, this season\, Konstan
 tin collaborates on a performance art piece with SiteSpecific Dances and M
 orDance\, premiering P. Nazaykinskaya’s “Emily”.\n\nAs a librettist\
 , Konstantin works on two operas: “Tear Down This Wall” for Mississipp
 i Opera and “Her New Home” for Garth Newel Music Center.\n\nThe Summer
  of 2023 will take Konstantin to five festivals: Odyssiad\, CO\, PianoFêt
 e\, WA\; International Composer Symposium in Del Mar\, CA\, and The Rising
  Stars Piano Camp in Lenox\, MA. 2023 marks Konstantin’s 13th year as Ar
 tist-in-Residence at Pianofest In The Hamptons. Konstantin is a recipient 
 of over 17 international awards.\n\n\n\n\n\nProgram\n\n\n\n\n\n\n\nPuccini
  - Soukhovetski\nLa Boheme: The Love Story\n\nMassenet - Soukhovetski\nMan
 on\, Act. II\, St. Sulpice Scene\n\nKonstantin Soukhovetski\nSelections fr
 om The Pride Suite\n*ProtoStar Group Commission\n\n\n\n\n\n\n\n\n﻿﻿﻿
 \n\n\nGet Tickets\n\n
ATTACH;FMTTYPE=image/jpeg:https://i0.wp.com/grandpianoseries.org/wp-conten
 t/uploads/2023/07/KS_05_07_23-84-680x385-1.jpg?fit=680%2C385&ssl=1
CATEGORIES:Past Events
LOCATION:St Leo Auditorium\, 28290 Beaumont Rd\, Bonita Springs\, Florida\,
  34134\, United States
X-APPLE-STRUCTURED-LOCATION;VALUE=URI;X-ADDRESS=28290 Beaumont Rd\, Bonita 
 Springs\, Florida\, 34134\, United States;X-APPLE-RADIUS=100;X-TITLE=St Le
 o Auditorium:geo:0,0
END:VEVENT
BEGIN:VTIMEZONE
TZID:Pacific/Easter
X-LIC-LOCATION:Pacific/Easter
BEGIN:DAYLIGHT
DTSTART:20230902T230000
TZOFFSETFROM:-0600
TZOFFSETTO:-0500
TZNAME:-05
END:DAYLIGHT
END:VTIMEZONE
END:VCALENDAR