BEGIN:VCALENDAR
VERSION:2.0
PRODID:-//wp-events-plugin.com//7.2.3.1//EN
BEGIN:VEVENT
UID:168@grandpianoseries.org
DTSTART;TZID=Pacific/Easter:20160510T193000
DTEND;TZID=Pacific/Easter:20160510T210000
DTSTAMP:20260129T173955Z
URL:https://grandpianoseries.org/events/kaleidoscope/
SUMMARY:Kaleidoscope
DESCRIPTION:Kaleidoscope was founded by Redi Llupa\, Inesa Gegprifti\, Akin
 a Yura\, Maria Sumareva (pianists)\, and Rodrigo Bussad (composer). It beg
 an with Soirée Japonaise\, a program highlighting the interplay between W
 estern and Japanese aesthetics through the music of Debussy\, Takemitsu\, 
 Shishido\, and Bussad (world premiere of the piano cycle Moon Inside I). T
 he musical eclecticism and thematic unity of this program inspired a conti
 nuing exploration of connections between new or rarely heard works and mas
 terpieces of the standard piano repertory in subsequent Kaleidoscope conce
 rts. All concerts feature brief presentations about the works prior to eac
 h performance\, given by the performers or composers themselves. These pre
 sentations aim to unveil the cultural\, ideological\, or musical contexts 
 and the significance of each work.\n\nProgram\n\n\n\n\n\n\n\nK.P.E. Bach: 
 Fantasia in F Major\, H.279 Wq. 59/5 - Inesa Gegprifti\, piano\n\nDeFalla:
  Fantasia Baetica - Akina Yura\, piano\n\nMozart: Fantasia in c minor K. 4
 75 - Maria Sumareva\, piano\n\nPeçi: Muzikë Kabaistike\, dedicated to Re
 di Llupa - Redi Llupa\, piano\n\nScriabin: Poème-Nocturne Op. 61 - Larisa
  Soboleva\, piano\n\nScriabin: Fantasy in b minor Op. 28 - Larisa Soboleva
 \, piano\n\n\n\n\n\n\n\n\n&nbsp\;\n\n\n\nGet Tickets\n\n\n
ATTACH;FMTTYPE=image/jpeg:https://i0.wp.com/grandpianoseries.org/wp-conten
 t/uploads/2026/01/Kaleidoscope.webp?fit=400%2C113&ssl=1
CATEGORIES:Past Events
END:VEVENT
BEGIN:VTIMEZONE
TZID:Pacific/Easter
X-LIC-LOCATION:Pacific/Easter
BEGIN:DAYLIGHT
DTSTART:20150511T193000
TZOFFSETFROM:-0500
TZOFFSETTO:-0500
TZNAME:-05
END:DAYLIGHT
END:VTIMEZONE
END:VCALENDAR