BEGIN:VCALENDAR
VERSION:2.0
PRODID:-//wp-events-plugin.com//7.2.3.1//EN
BEGIN:VEVENT
UID:163@grandpianoseries.org
DTSTART;TZID=Pacific/Easter:20160711T193000
DTEND;TZID=Pacific/Easter:20160711T210000
DTSTAMP:20260129T172750Z
URL:https://grandpianoseries.org/events/francesco-libetta/
SUMMARY:Francesco Libetta
DESCRIPTION:\n\n\nBIOGRAPHY\n\n\n\n\nItalian pianist\, composer\, writer\, 
 entrepreneur and conductor Francesco Libetta was born in Salento — the "
 heel" of Italy. Libetta's name began circulating among the piano cognoscen
 ti after his astonishing traversal of Godowsky's fifty-three studies based
  on Chopin's Études\; Libetta was the very first to play them all live (M
 ilan\, Florence\, Naples)\, even in a single concert (Tokyo\, Brasilia\, M
 iami). His repertoire encompasses a broad range\, Mozart and Beethoven con
 certos\, the complete Händel and Chopin works\, and major works by Schube
 rt\, Schumann\, Liszt\, Debussy\, Ravel and other composers from Renaissan
 ce to avant-garde. His recordings include all of Beethoven's piano Sonatas
  (first performed in Italy in 1993/94\, recorded in 2020)\; Godowsky's 53 
 Studies on Chopin's Studies\; Paisiello (complete piano Sonatas)\, Liszt (
 Transcendental Etudes and Années de pèlérinage)\, F. d'Avalos (who dedi
 cated all his solo piano pieces to him.) One of Libetta's DVDs\, a recordi
 ng of a recital held at the Festival de La Roque d'Anthéron (France) in 2
 002\, created by Bruno Monsaingeon (the acclaimed documentary maker of Gle
 nn Gould and Sviatoslav Richter) was awarded the Diapason d'Or and the CHO
 C de Le Monde de la Musique. Other awards of Libetta's recordings: Raccoma
 ndé par Classique\, Amadeus d'oro\, 5 stelle di MUSICA.\n\nCritics have c
 onsistently given Libetta the highest accolades: F. M. Colombo wrote (in C
 orriere della Sera) of "a dusting of refinement [...] that we thought was 
 lost in the archives of piano interpretation." According to La Tribune de 
 Genève (L. Sabbatini) it is "figure-culte" and to El nuevo País it is "a
  historical case of ability" (R. Poleo). P. Isotta called him a "profound 
 musician and a pianist of culture" due to "a freedom and pianistic authori
 ty at the same time that make him without any comparison in the world" (Co
 rriere della Sera) and "the greatest living pianist" (in Altri canti di Ma
 rte\, Marsilio 2015).\n\nPer il New York Times è «Poet-aristocrat with t
 he profile and carriage of a Renaissance prince»\, mentre per Le Monde «
 l'éritier des Moritz Rosenthal\, des Busoni et des Godowsky» e per Corri
 ere della Sera «uno spolvero di signorilità che credevamo perduto negli 
 archivi dell'interpretazione pianistica». Francesco d’Avalos gli ha ded
 icato tutti i suoi pezzi per pianoforte solo e Paolo Isotta lo ha definito
  «il più grande pianista vivente». Ha realizzato integrali pianistiche 
 di Beethoven\, Händel\, Chopin\, Godowsky\, Paisiello e Bosso\, e ha pubb
 licato registrazioni di Schumann\, Liszt\, Ligeti\, Ravel e Debussy\, fino
  ai recenti tre album pubblicati da Sony Classical e Sony Music. Le sue re
 gistrazioni sono pluripremiate\, fra l’altro\, da Diapason\, Le Monde de
  la Musique\, Classique\, Amadeus. Ha collaborato con direttori come Anton
 io Pappano\, Marc Andreae e Christian Mandeal\; artisti fra i quali Giovan
 ni Sollima\, Caterina Antonacci\, Mariella Devia\; attori quali Alessio Bo
 ni\, Maurisa Laurito\, Alessandro Preziosi\, Simona Marchini\; danzatori c
 ome Carla Fracci\, oltre ad avere fondato il gruppo di ballo Corerofonie. 
 Dopo gli studi di Composizione con Marinuzzi a Roma e Castérède a Parigi
 \, ha scritto musica per teatro\, cinema\, acusmatica\, cameristica\, orch
 estrale e l’opera L’Assedio di Otranto\, messa in scena in Puglia e a 
 Roma e pubblicata in cd. «Libetta compositore è poeta doctus» scrisse P
 aolo Isotta sancendo il profilo di uno degli artisti italiani più versati
 li e stimati nel mondo\, spaziando dalla direzione d’orchestra all’att
 ività di saggista musicale\, regista d’arte visuale e a sua volta prota
 gonista dei documentari di Bruno Monsaingeon e Franco Battiato. Già didat
 ta per il Miami Piano Festival e oggi a Martina Franca con la Fondazione G
 rassi\, Francesco Libetta è Steinway Artist.\n\n\n\n\n\n\nProgram\n\n\n\n
 \n\n\n\nChopin: Waltz No. 5 in A-Flat Major Op. 42\, "Two Four"\n\nD'Avalo
 s: Albumblatt (omaggio a Schumann)\n\nHandel: Vol. II - Suite No. 7 in B-F
 lat Major HWV 440\n\nLiszt: from Années de pèlerinage: Première année:
  Suisse - No. 4 Au bord d'une source\n\nSchubert: Wanderer Fantasie in C M
 ajor\, Op. 15 D. 760\n\nWagner/Liszt: from Lohengrin\, S 446 - No. 1 Fests
 piel &amp\; Brautlied\n\nWagner/Liszt: from Lohengrin\, S 446 - No. 2 Elsa
 s Traum\n\n&nbsp\;\n\n&nbsp\;\n\n\n\n\n\n\n\n\n\n&nbsp\;\n\n
ATTACH;FMTTYPE=image/jpeg:https://i0.wp.com/grandpianoseries.org/wp-conten
 t/uploads/2026/01/C00393-scaled.jpeg?fit=2560%2C1707&ssl=1
CATEGORIES:Past Events
END:VEVENT
BEGIN:VTIMEZONE
TZID:Pacific/Easter
X-LIC-LOCATION:Pacific/Easter
BEGIN:STANDARD
DTSTART:20160514T210000
TZOFFSETFROM:-0500
TZOFFSETTO:-0600
TZNAME:-06
END:STANDARD
END:VTIMEZONE
END:VCALENDAR