BEGIN:VCALENDAR
VERSION:2.0
PRODID:-//wp-events-plugin.com//7.2.3.1//EN
BEGIN:VEVENT
UID:69@grandpianoseries.org
DTSTART;TZID=Pacific/Easter:20230211T110000
DTEND;TZID=Pacific/Easter:20230211T110000
DTSTAMP:20230821T231308Z
URL:https://grandpianoseries.org/events/family-concert-boyd-meets-girl/
SUMMARY:Family Concert: Boyd Meets Girl
DESCRIPTION:Grand Piano Series presents Boyd Meets Girl for family-friendly
  concerts with inspiring music. Our youngest community members are free to
  crawl\, walk\, play\, and otherwise enjoy themselves throughout the perfo
 rmance!\nThis is a free event hosted in partnership with Alliance for the 
 Arts.\nMore Events  |  More Info\n&nbsp\;\n\n\n\nGet Tickets\n\n
ATTACH;FMTTYPE=image/jpeg:https://i0.wp.com/grandpianoseries.org/wp-conten
 t/uploads/2023/02/88480_event_md_797.png?fit=1640%2C924&ssl=1
CATEGORIES:Past Events
END:VEVENT
BEGIN:VTIMEZONE
TZID:Pacific/Easter
X-LIC-LOCATION:Pacific/Easter
BEGIN:DAYLIGHT
DTSTART:20220910T230000
TZOFFSETFROM:-0600
TZOFFSETTO:-0500
TZNAME:-05
END:DAYLIGHT
END:VTIMEZONE
END:VCALENDAR