BEGIN:VCALENDAR
VERSION:2.0
PRODID:-//wp-events-plugin.com//7.2.3.1//EN
BEGIN:VEVENT
UID:158@grandpianoseries.org
DTSTART;TZID=Pacific/Easter:20260409T190000
DTEND;TZID=Pacific/Easter:20260409T210000
DTSTAMP:20250917T020951Z
URL:https://grandpianoseries.org/events/evren-ozel/
SUMMARY:Evren Ozel
DESCRIPTION:\n\n\n\n\nTickets are available through the Artis—Naples box 
 office\nPhone: 239-597-1900\n\n\n\n\n\n\n\nAmerican pianist Evren Ozel has
  established himself as a musician of “refined restraint” (Third Coast
  Review)\, combining fluent virtuosity with probing\, thoughtful interpret
 ations. Having performed extensively in the United States and abroad\, Evr
 en is the recipient of a 2023 Avery Fisher Career Grant\, 2022 Salon de Vi
 rtuosi Career Grant\, and is currently represented by Concert Artists Guil
 d as an Ambassador Prize Winner of their 2021 Victor Elmaleh Competition.\
 n\nSince his debut with the Minnesota Orchestra at age 11\, Ozel has been 
 a featured soloist with the Cleveland Orchestra\, Jacksonville Symphony\, 
 and The Orchestra Now at Bard College\, with conductors Jahja Ling\, Court
 ney Lewis\, and Leon Botstein. In March of 2025\, his first album of Mozar
 t Concertos with the ORF Radio Symphony of Vienna and conductor Howard Gri
 ffiths will be released on Alpha Classics.\n\nOzel’s 2024-25 season high
 lights include solo recitals for La Jolla Music Society\, Capital Region C
 lassical\, and Cal Performances. Previously\, he has performed recitals fo
 r Harvard Musical Association\, Schubert Club\, Chopin Society of Minnesot
 a\, and The Gilmore. Carrying a vast and varied recital repertoire\, his 2
 023-24 season included a program ranging from Bach and Rameau to Ligeti\, 
 as well as a program of Beethoven’s last three Piano Sonatas.\n\nAn este
 emed chamber musician\, Ozel performs alongside artists like David Finckel
  and Wu Han\, Stella Chen\, Zlatomir Fung\, Paul Huang\, and Peter Wiley. 
 He spent four summers at the Marlboro Festival\, and is currently a 2024-2
 7 Bowers Program Artist for the Chamber Music Society of Lincoln Center. H
 is 2024-25 season includes a tour with Musicians from Marlboro\, as well a
 s CMS concerts at Alice Tully Hall.\n\nOzel resides in Boston\, where he i
 s currently a candidate in New England Conservatory’s prestigious and hi
 ghly-exclusive Artist Diploma program\, under the tutelage of Wha Kyung By
 un. Other important mentors include Jonathan Biss\, Imogen Cooper\, Richar
 d Goode\, Andras Schiff\, and Mitsuko Uchida.\n\n\n\n\n\nProgram\nDomenico
  Scarlatti\nSonata in G Major\, K. 427\nSonata in C minor\, K. 11\nSonata 
 in C Major\, K. 159\nLudwig van Beethoven: Sonata No. 30 in E Major\, Op. 
 109\n1. Vivace Ma Non Troppo\, Adagio Espressivo\n2. Prestissimo\n3. Gesan
 gvoll\, Mit Innigster Empfindung\nBela Bartok: Out of doors\, Sz. 81\n1. W
 ith Drums and Pipes. Pesante\n2. Barcarolla. Andante\n3. Musettes. Moderat
 o\n4. The Night's Music. Lento\n5. The Chase. Presto\nIntermission\nGabrie
 l Fauré: Nocturne in E-flat Major\, Op. 36\nRobert Schumann: Carnaval Op.
  9\n\n\n\n\n\n\n\n\nGet Tickets\n\n
ATTACH;FMTTYPE=image/jpeg:https://i0.wp.com/grandpianoseries.org/wp-conten
 t/uploads/2025/09/GPS_Evren_Ozel_01_PHMike_GrittaniTop.webp?fit=2560%2C146
 3&ssl=1
CATEGORIES:Past Events
LOCATION:Artis—Naples (Daniels Pavilion)\, 5833 Pelican Bay Boulevard\, N
 aples\, FL\, 34108-2740\, United States
X-APPLE-STRUCTURED-LOCATION;VALUE=URI;X-ADDRESS=5833 Pelican Bay Boulevard\
 , Naples\, FL\, 34108-2740\, United States;X-APPLE-RADIUS=100;X-TITLE=Arti
 s—Naples (Daniels Pavilion):geo:0,0
END:VEVENT
BEGIN:VTIMEZONE
TZID:Pacific/Easter
X-LIC-LOCATION:Pacific/Easter
BEGIN:STANDARD
DTSTART:20260404T210000
TZOFFSETFROM:-0500
TZOFFSETTO:-0600
TZNAME:-06
END:STANDARD
END:VTIMEZONE
END:VCALENDAR