BEGIN:VCALENDAR
VERSION:2.0
PRODID:-//wp-events-plugin.com//7.2.3.1//EN
BEGIN:VEVENT
UID:67@grandpianoseries.org
DTSTART;TZID=Pacific/Easter:20170213T193000
DTEND;TZID=Pacific/Easter:20170213T210000
DTSTAMP:20230731T000717Z
URL:https://grandpianoseries.org/events/drew-petersen/
SUMMARY:Drew Petersen
DESCRIPTION:\n\nBIOGRAPHY\n\n\nAcclaimed young American pianist Drew Peters
 en is a sought-after soloist\, recitalist\, and chamber musician in the Un
 ited States\, Europe and Asia. He’s been praised for his commanding and 
 poetic performances of repertoire ranging from Bach to Zaimont\, and is th
 e recipient of the 2018 Avery Fisher Career Grant\, 2017 American Pianists
  Award\, and the Christel DeHaan Fellow of the American Pianists Associati
 on\, as well as a residency at the University of Indianapolis.\nSince then
  he has made debuts with the Houston\, Phoenix\, Tucson\, Pacific and Milw
 aukee Symphony Orchestras\, and has appeared in solo recitals at the Gilmo
 re International Keyboard Festival\, University of Indianapolis\, and Dame
  Myra Hess Concerts in Chicago. Most recent performances include concerts 
 at Lincoln Center’s Mostly Mozart Festival and Brevard Music Center’s 
 Summer Festival\, orchestral performances with the Indianapolis Symphony a
 nd a recital at Chicago’s Ravinia Festival. 2018 also marked the release
  of his first solo recording of American music on the Steinway label for w
 hich BBC Music Magazine acknowledged his presence as a rising star. The 20
 19-2020 season includes appearances with orchestras in Sarasota\, Fort Smi
 th\, Buffalo\, Waco and Columbus\, as well as recitals in Madison\, Duluth
 \, Savannah and his Kennedy Center debut.\n\nA frequent radio contributor\
 , Petersen has performed on McGraw-Hill Young Artists Showcase\, From the 
 Top\, and Performance Today. Profiles include The New York Times\, New Yor
 k Magazine\, and the documentary just normal by award-winning director Kim
  A. Snyder. A champion of chamber music\, Petersen has appeared on French 
 radio’s France Musique while a member of a Verbier Festival piano trio.\
 n\nDrew Petersen’s firm belief in the importance of music in contemporar
 y society led to collaborations with Young Audiences NY that presents perf
 ormances in New York City’s public schools. His appearance in Andrew Sol
 omon’s New York Times bestselling book\, Far From the Tree\, sparked a n
 ation-wide conversation on raising extraordinary and different children wh
 o test the willpower and capabilities of their families and society. Peter
 sen continually advocates for the necessity of classical music and other a
 rts in society\, and was named a 2006 Davidson Fellow for his portfolio en
 titled Keeping Classical Music Alive.\n\n\n\n\n\nProgram\n\n\n\n\n\n\n\nSc
 humann: Abegg Variations\, Op. 1\nSchumann: Humoreske\, Op. 20\nMessiaen: 
 Premiere Communion de la Vierge (from Vingt Regards)\nLiszt: Après Une Le
 cture De Dante (Fantasia Quasi Sonata)\n\n\n\n\n\n\n\n\n\n\n\nGet Ticke
 ts\n\n
ATTACH;FMTTYPE=image/jpeg:https://i0.wp.com/grandpianoseries.org/wp-conten
 t/uploads/2023/01/DSC_3139_kateliu-41.webp?fit=680%2C386&ssl=1
CATEGORIES:Past Events
END:VEVENT
BEGIN:VTIMEZONE
TZID:Pacific/Easter
X-LIC-LOCATION:Pacific/Easter
BEGIN:DAYLIGHT
DTSTART:20160813T230000
TZOFFSETFROM:-0600
TZOFFSETTO:-0500
TZNAME:-05
END:DAYLIGHT
END:VTIMEZONE
END:VCALENDAR