BEGIN:VCALENDAR
VERSION:2.0
PRODID:-//wp-events-plugin.com//7.2.3.1//EN
BEGIN:VEVENT
UID:20@grandpianoseries.org
DTSTART;TZID=Pacific/Easter:20230325T190000
DTEND;TZID=Pacific/Easter:20230325T200000
DTSTAMP:20230821T225825Z
URL:https://grandpianoseries.org/events/dominic-cheli-at-opera-naples-fest
 ival-under-the-stars/
SUMMARY:Dominic Cheli at Opera Naples "Festival Under the Stars"
DESCRIPTION:\n\nDominic Cheli’s playing has been described as “spontan
 eous yet perfect\, the best of how a young person can play.” (Symphony M
 agazine). His rapidly advancing career included his Walt Disney Concert Ha
 ll Debut where Dominic was described as “mesmerizing\, (he) transfixed t
 he audience…his fingers were one with each key.” (LA Times). He gave h
 is Carnegie Hall Recital Debut in 2019 with a return appearance in January
  2023.\n\nHe recently recorded his 2nd CD on the Naxos label of the music 
 of Liszt/Schubert\, and has enjoyed his role as performer\, producer and m
 usic editor for an upcoming all-Schulhoff CD on the Delos label scheduled 
 for a Fall 2022 release. This album features a special collaboration on Sc
 hulhoff’s Piano Concerto No.2 with Maestro James Conlon. He also recentl
 y completed work as a composer on the documentary Defying Gravity (2021).\
 n\nWith a fascination and appreciation for the benefits of technology espe
 cially in our new virtual age\, Dominic was appointed Live Director of Ton
 ebase Piano. As a result\, he is the host and presenter of numerous virtua
 l events each month to the 4\,000+ subscribers on the platform.  As an ed
 ucator\, Dominic is on faculty of the Colburn Community Music School and s
 trives for his students to be imaginative\, knowledgeable and have healthy
  relationships with their instruments.\n\nIn his spare time\, Dominic enjo
 ys cooking and training for Ironman triathlons.\n\n\n\n\nProgram\n\n\n\n\n
 \n\n\n\n\n\nThis delightful and diverse program features beloved music of 
 the opera and vocal repertory through the lens of piano virtuosity of Olym
 pic proportions. From Mozart to Bizet\, there is something for everyone to
  marvel at.\n\nRachmaninoff: Lilacs (3’) Beethoven/Cheli: An Die Hoffnun
 g (6’)\nChopin: Variations on “Ludovic” Op.12 (9’)\nLiszt/Bellini:
  Norma Fantasy (17’)\nLiszt/Mozart: Don Juan Fantasy (18’)\nYradier: 
 “El Arreglito” (4’)\nBizet/Horowitz: Carmen Variations (4’)\nRavel
 : Rhapsodie Espagnole for four hands (16’)\nDominic Cheli &amp\; Milan
 a Strezeva Duo\n\nFor help purchasing tickets\, please call 469-333-3231\
 n\nThis event is a partner event and is a part of the Opera Naples "Festiv
 al Under The Stars".\n\n\n\n\n\n\n\n\n\n\n\n\n\n\nGet Tickets\n\n
ATTACH;FMTTYPE=image/jpeg:https://i0.wp.com/grandpianoseries.org/wp-conten
 t/uploads/2023/01/79493_event_md.jpg?fit=1200%2C800&ssl=1
CATEGORIES:Past Events
END:VEVENT
BEGIN:VTIMEZONE
TZID:Pacific/Easter
X-LIC-LOCATION:Pacific/Easter
BEGIN:DAYLIGHT
DTSTART:20220910T230000
TZOFFSETFROM:-0600
TZOFFSETTO:-0500
TZNAME:-05
END:DAYLIGHT
END:VTIMEZONE
END:VCALENDAR