BEGIN:VCALENDAR
VERSION:2.0
PRODID:-//wp-events-plugin.com//7.2.3.1//EN
BEGIN:VEVENT
UID:144@grandpianoseries.org
DTSTART;TZID=Pacific/Easter:20250619T190000
DTEND;TZID=Pacific/Easter:20250619T200000
DTSTAMP:20250618T105627Z
URL:https://grandpianoseries.org/events/dmitry-yudin/
SUMMARY:Dmitry Yudin
DESCRIPTION:ALL PROCEEDS GO TO SUPPORT FREE YOUTH EDUCATION PROGRAMS\n\n&nb
 sp\;\n\nDmitry Yudin\, born on May 16\, 2001\, in Moscow\, began his music
 al studies under Professor Lydia Grigoryeva at the Moscow Gnessins School 
 of Music\, where he trained from 2008 to 2019. Dmitry has demonstrated exc
 eptional talent from an early age. He has participated in numerous nationa
 l and international competitions and festivals\, earning accolades and cap
 tivating audiences worldwide.\n\nAs a performer\, Dmitry has delivered sol
 o recitals across Russia and internationally. His collaborations include p
 erformances with esteemed ensembles such as the Baltic States Youth Sympho
 ny Orchestra\, Baltic Music Academy Symphony Orchestra\, Musica Viva Mosco
 w Chamber Orchestra\, National Philharmonic Orchestra of Russia\, St. Pete
 rsburg State Academic Symphony Orchestra\, and Tomsk Academic Symphony Orc
 hestra.\n\nSince August 2019\, Dmitry has been studying on a full scholars
 hip at the Manhattan School of Music under Horacio Gutierrez. During the p
 andemic\, he showcased his artistry through a series of virtual solo recit
 als hosted by MSM.\n\nDmitry achieved a significant milestone in February 
 2022 by winning the MSM Eisenberg-Freid Concerto Competition with his perf
 ormance of Prokofiev’s Piano Concerto No. 2\, which he presented with ma
 estro George Manahan in September 2022.\n\nHis recent accomplishments incl
 ude a celebrated recital in Boston after winning the HMA Foote Award in 20
 23. That same year\, Dmitry secured third place in the New York Concert Ar
 tists Auditions and second place at the Wideman Concerto Competition in Sh
 reveport\, Louisiana. Most recently\, in 2024\, he was honored with the Se
 cond Prize at the prestigious Geza Anda International Piano Competition in
  Zurich\, Switzerland.\nProgram\n\n\n\n\n\n\nThe Old World: Mendelssohn\, 
 The Blue Danube\, and the Russian Fairytales\nOur host\, Konstantin Soukho
 vetski\, will illuminate the personal stories and artistic inspirations be
 hind these musical treasures\, including a brief Q&amp\;A with our guest a
 rtist.\n\nFelix Mendelssohn: Fantasy Op.28\n\nNikolai Medtner: Six fairy T
 ales: op. 51/3\, op. 34/3\, op. 20/2\n\nSergei Prokofiev: Sonata No. 4 in 
 C minor\, Op. 29 “from Old Notebook”\n\nJohann Strauss: “The Blue Da
 nube”\, arrangement by Georgy Cziffra\n\n\nAll programs are subject to c
 hange without notice.\n\n\n\n\n\n\n\n\n\n\nGet Tickets\n\n\n
ATTACH;FMTTYPE=image/jpeg:https://i0.wp.com/grandpianoseries.org/wp-conten
 t/uploads/2025/05/GPS_Dmitry_Yudin_Web.webp?fit=2560%2C1463&ssl=1
CATEGORIES:Past Events
LOCATION:St Leo Auditorium\, 28290 Beaumont Rd\, Bonita Springs\, Florida\,
  34134\, United States
X-APPLE-STRUCTURED-LOCATION;VALUE=URI;X-ADDRESS=28290 Beaumont Rd\, Bonita 
 Springs\, Florida\, 34134\, United States;X-APPLE-RADIUS=100;X-TITLE=St Le
 o Auditorium:geo:0,0
END:VEVENT
BEGIN:VTIMEZONE
TZID:Pacific/Easter
X-LIC-LOCATION:Pacific/Easter
BEGIN:STANDARD
DTSTART:20250405T210000
TZOFFSETFROM:-0500
TZOFFSETTO:-0600
TZNAME:-06
END:STANDARD
END:VTIMEZONE
END:VCALENDAR