BEGIN:VCALENDAR
VERSION:2.0
PRODID:-//wp-events-plugin.com//7.2.3.1//EN
BEGIN:VEVENT
UID:44@grandpianoseries.org
DTSTART;TZID=Pacific/Easter:20200130T193000
DTEND;TZID=Pacific/Easter:20200130T210000
DTSTAMP:20230731T001713Z
URL:https://grandpianoseries.org/events/david-dubal/
SUMMARY:David Dubal
DESCRIPTION:\n\n\n\nDavid Dubal is internationally known as a pianist\, tea
 cher\, writer\, artist\, and broadcaster. An acknowledged authority on the
  piano literature\, Mr. Dubalʼs highly acclaimed books include The Art of
  the Piano\, The Essential Canon of Classical Music\, Evenings with Horowi
 tz\, Reflections from the Keyboard\, and Conversations with Menuhin. Recip
 ient of the First ASCAP/Deems Taylor Award for broadcast journalism\, Mr. 
 Dubal has won numerous other honors\, including the coveted George Foster 
 Peabody Award for innovative broadcasting. His 1993 film\, "The Golden Age
  of the Piano"\, has been seen worldwide in four languages\, and won him a
 n Emmy award.\n\n\n\n\nAs music director of storied New York City classica
 l music station WNCN in New York City from 1971 to 1994\, Mr. Dubal served
  as a producer and commentator for innumerable programs and special broadc
 asts. His guest interviews include a veritable who's who of the luminary p
 ianists and musicians of the 20th century\, including Vladimir Horowitz\, 
 Claudio Arrau\, Rosalyn Tureck\, George Bolet\, Yehudi Menuhin\, Byron Jan
 is\, Charles Rosen\, Alexis Weissenberg\, Murray Perahia\, Andras Schiff\,
  Mitsuko Uchida\, Alfred Brendel\, and many more. Since 2000\, Mr. Dubal's
  programs "Reflections from the Keyboard" (WQXR.org\, 105.9 New York) and 
 "The Piano Matters" (WWFM.org) have attracted online listeners worldwide.\
 n\nMr. Dubal served on the faculties of both the Juilliard School and the 
 Manhattan School of Music in New York City for several decades\, reaching 
 thousands of students of all ages. He has performed in recitals and lectur
 e-recitals in forty states\, conducted master classes and lectured across 
 the globe\, and served on the jury of dozens of international competitions
 . In 2006\, Mr. Dubal received an honorary doctorate from the State Univer
 sity of New York (SUNY).\n\n\n\n\n\nProgram\n\n\n\n\n\n\n\n"Beethoven's Pl
 ace in The History of Humanity"\n\n\n\n\n\n\n\n\n\n\n\nGet Tickets\n\n
ATTACH;FMTTYPE=image/jpeg:https://i0.wp.com/grandpianoseries.org/wp-conten
 t/uploads/2023/01/DSC_3139_kateliu-16.webp?fit=680%2C386&ssl=1
CATEGORIES:Past Events
END:VEVENT
BEGIN:VTIMEZONE
TZID:Pacific/Easter
X-LIC-LOCATION:Pacific/Easter
BEGIN:DAYLIGHT
DTSTART:20190907T230000
TZOFFSETFROM:-0600
TZOFFSETTO:-0500
TZNAME:-05
END:DAYLIGHT
END:VTIMEZONE
END:VCALENDAR