BEGIN:VCALENDAR
VERSION:2.0
PRODID:-//wp-events-plugin.com//7.2.3.1//EN
BEGIN:VEVENT
UID:23@grandpianoseries.org
DTSTART;TZID=Pacific/Easter:20230418T150000
DTEND;TZID=Pacific/Easter:20230418T163000
DTSTAMP:20230821T225701Z
URL:https://grandpianoseries.org/events/chamberfest-mike-cheng-yu-lee-trin
 ity-4-18-3-pm/
SUMMARY:ChamberFest: Mike Cheng-Yu Lee (Trinity) 4/18 - 3 PM
DESCRIPTION:\n\nMike Cheng-Yu Lee is one of a new generation of pianists w
 ho is at home performing on pianos that span the early 18th to the late 20
 th centuries. Awarded Second Prize and Audience Prize at the 2011 Westfie
 ld International Fortepiano Competition by a jury that included Robert Le
 vin and the late Christopher Hogwood\, his performances have garnered atte
 ntion for the fresh perspectives they bring to familiar repertoire. For hi
 s debut recital in Australia he received a rare five-star review in Limel
 ight Magazine: “Try as one might\, it was hard to avoid cliché response
 s like ‘stunning’\, even ‘electrifying’. I don’t think I have he
 ard a Mozart recital quite like this. I heard things in Mozart’s music I
  had never thought possible and certainly had never encountered before.”
 \n\nAs a chamber musician\, Mike regularly collaborates with both modern a
 nd period performers and ensembles. He has appeared as soloist with the Ne
 w World Symphony at the invitation of Michael Tilson Thomas and collaborat
 ed with musicians from the Formosa\, Juilliard\, and Aizuri quartets among
  others.\n\nMike is regularly invited to guest teach and perform at some o
 f the most prominent music schools around the world\, including the Royal 
 Academy of Music\, Oberlin Conservatory\, Eastman School of Music\, the Th
 ornton School of Music at the University of Southern California\, the Bien
 en School of Music at Northwestern University\, and the University of Mich
 igan–Ann Arbor\, among others. In 2015-17 he was Visiting Assistant Prof
 essor at the Jacobs School of Music\, Indiana University–Bloomington.\n\
 nAs a scholar\, Mike's interests lie at the intersection between music the
 ory and analysis\, performance studies\, and organology. To date he has pu
 blished on aspects of form\, meter\, and tempo in Schubert (Music Theory O
 nline) and has a forthcoming article in 19th-Century Music that develops
  a new hermeneutic interpretation of Chopin's E-minor prelude drawing on a
 utograph and biographical sources\, analysis\, and performance studies. Ad
 ditionally\, Mike has contributed writings to Early Music America Magazin
 e and 18th-Century Music.\n\nIn more recent years\, Mike has assumed cur
 atorship of important instrument collections. In 2017-19 he was director o
 f the Australian National University Keyboard Institute which houses one
  of the southern hemisphere's largest collections of historical pianos. Cu
 rrently\, he is Artist/Scholar-in-Residence at the Cornell Center for His
 torical Keyboards where he divides his work between performance and schol
 arship\, developing programs for the center\, teaching into the DMA progra
 m\, and curatorship of the center's historical piano collection.\n\nMike s
 tudied at the Yale School of Music and holds a Ph.D. in musicology from Co
 rnell University with a dissertation that was awarded the Donald J. Grout
  Memorial Dissertation Prize. His teachers include Malcolm Bilson\, Boris 
 Berman\, Michael Friedmann\, and the renowned Haydn scholar James Webster.
 \n\n\n\n\nProgram\n\n\n\n\n\n\n\n\n\nSchumann: Papillons\, Op. 2\nSchumann
  Humoreske\, Op. 20\n\n\nSchubert Sonata in D major\, D. 850\n\nExperience
  the lyrical masterpieces exactly as their composers would have - on the f
 ortepiano. A historical instrument will beguile you with its tender sound\
 , bringing you into the intimate world of Germany's most beloved romantics
 .\n\n\n\nFor help purchasing tickets\, please call 469-333-3231\n\n\n\n\n
 \n\n\n\n\n\n\n\n\nGet Tickets\n\n
ATTACH;FMTTYPE=image/jpeg:https://i0.wp.com/grandpianoseries.org/wp-conten
 t/uploads/2023/01/79033_event_md.jpg?fit=1200%2C662&ssl=1
CATEGORIES:Past Events
END:VEVENT
BEGIN:VTIMEZONE
TZID:Pacific/Easter
X-LIC-LOCATION:Pacific/Easter
BEGIN:STANDARD
DTSTART:20230401T210000
TZOFFSETFROM:-0500
TZOFFSETTO:-0600
TZNAME:-06
END:STANDARD
END:VTIMEZONE
END:VCALENDAR