BEGIN:VCALENDAR
VERSION:2.0
PRODID:-//wp-events-plugin.com//7.2.3.1//EN
BEGIN:VEVENT
UID:75@grandpianoseries.org
DTSTART;TZID=Pacific/Easter:20221026T193000
DTEND;TZID=Pacific/Easter:20221026T210000
DTSTAMP:20230731T003859Z
URL:https://grandpianoseries.org/events/beethoven-fest-paul-williamson/
SUMMARY:Beethoven Fest: Paul Williamson
DESCRIPTION:\n\n\n\nNamed one of CBC Music's "30 under 30" Canadian classic
 al musicians\, Paul Williamson is a first prize winner of the piano catego
 ry of the Canadian national music festival (2014)\, the Canadian Federatio
 n of Music Teachers' Association national piano competition (2017)\, and a
  prizewinner of the WMC McLellan Competition (2020) and the Shean Piano Co
 mpetition (2022). As a soloist\, he has appeared with the Winnipeg Symphon
 y Orchestra. the University of Manitoba Symphony Orchestra\, and the Frase
 r Valley Symphony Orchestra. He has performed alongside Julian Pellicano\,
  Alexander Mickelthwate\, Aiyun Huang\, Orli Shaham\, and Jim Walker. He h
 as appeared at Morningside Music Bridge\, Orford\, Kneisel Hall\, Aspen\, 
 Hornby\, Scotia\, Agassiz\, and has held residency at the Avaloch Farm Mus
 ic Institute.\n\n\n\n\nPaul holds a Bachelor of Music degree from the Univ
 ersity of Manitoba and a Master of Music degree from the Colburn Conservat
 ory of Music\, where he continues to study with Fabio Bidini in the Artist
  Diploma program. Most recently\, Paul returned to the University of Manit
 oba to serve on the faculty as a piano instructor for the 2022 Winter term
 . His other musical influences include David Moroz and Jean-Yves Thibaudet
 . Paul is grateful for the support of the BC Arts Council.\n\n\n\n\n\nProg
 ram\n\n\n\n\n\n\nBeethoven: Sonata No.22 in F major Op.54 (12’)\nBeethov
 en: Sonata No.23 in f minor Op.57 “Appassionata” (24’)\nBeethoven: S
 onata No.24 in c minor Op.78 (10’)\nBeethoven: Sonata No.25 in G major O
 p.79 (10’)\nBeethoven: Sonata No.26 in E-flat Major Op.81a “Les Adieux
 ” (18’)\n\n\n\n\n\n\n\n&nbsp\;\n\n\nGet Tickets\n\n
ATTACH;FMTTYPE=image/jpeg:https://i0.wp.com/grandpianoseries.org/wp-conten
 t/uploads/2023/02/10-26-2022.webp?fit=2550%2C1700&ssl=1
CATEGORIES:Past Events
END:VEVENT
BEGIN:VTIMEZONE
TZID:Pacific/Easter
X-LIC-LOCATION:Pacific/Easter
BEGIN:DAYLIGHT
DTSTART:20220910T230000
TZOFFSETFROM:-0600
TZOFFSETTO:-0500
TZNAME:-05
END:DAYLIGHT
END:VTIMEZONE
END:VCALENDAR