BEGIN:VCALENDAR
VERSION:2.0
PRODID:-//wp-events-plugin.com//7.2.3.1//EN
BEGIN:VEVENT
UID:76@grandpianoseries.org
DTSTART;TZID=Pacific/Easter:20221027T193000
DTEND;TZID=Pacific/Easter:20221027T210000
DTSTAMP:20230731T003653Z
URL:https://grandpianoseries.org/events/beethoven-fest-dominic-cheli/
SUMMARY:Beethoven Fest: Dominic Cheli
DESCRIPTION:\n\n\n\nDominic Cheli’s playing has been described as “spon
 taneous yet perfect\, the best of how a young person can play.” (Symphon
 y Magazine). His rapidly advancing career included his Walt Disney Concert
  Hall Debut where Dominic was described as “mesmerizing\, (he) transfixe
 d the audience…his fingers were one with each key.” (LA Times). He gav
 e his Carnegie Hall Recital Debut in 2019 with a return appearance in Janu
 ary 2023.\n\n\n\n\nHe recently recorded his 2nd CD on the Naxos label of t
 he music of Liszt/Schubert and has enjoyed his role as performer\, produce
 r and music editor for an upcoming all-Schulhoff CD on the Delos label sch
 eduled for a Fall 2022 release. This album features a special collaboratio
 n on Schulhoff’s Piano Concerto No.2 with Maestro James Conlon. He also 
 recently completed work as a composer on the documentary Defying Gravity (
 2021).\n\nWith a fascination and appreciation for the benefits of technolo
 gy especially in our new virtual age\, Dominic was appointed Live Director
  of Tonebase Piano. As a result\, he is the host and presenter of numerous
  virtual events each month to the 4\,000+ subscribers on the platform.  A
 s an educator\, Dominic is on faculty of the Colburn Community Music Schoo
 l and strives for his students to be imaginative\, knowledgeable and have 
 healthy relationships with their instruments.\n\nIn his spare time\, Domin
 ic enjoys cooking and training for Ironman triathlons.\n\n\n\n\n\nProgram\
 n\n\n\n\n\n\nBeethoven: Sonata No.27 in e minor Op.90 (15’)\nBeethoven: 
 Sonata No.28 in A major Op.101 (21’)\nBeethoven: Sonata No.29 in B-flat 
 Major Op.106 (45’)\n\n\n\n\n\n\n\n&nbsp\;\n\n\nGet Tickets\n\n
ATTACH;FMTTYPE=image/jpeg:https://i0.wp.com/grandpianoseries.org/wp-conten
 t/uploads/2023/02/10-27-2022.webp?fit=1200%2C800&ssl=1
CATEGORIES:Past Events
END:VEVENT
BEGIN:VTIMEZONE
TZID:Pacific/Easter
X-LIC-LOCATION:Pacific/Easter
BEGIN:DAYLIGHT
DTSTART:20220910T230000
TZOFFSETFROM:-0600
TZOFFSETTO:-0500
TZNAME:-05
END:DAYLIGHT
END:VTIMEZONE
END:VCALENDAR