BEGIN:VCALENDAR
VERSION:2.0
PRODID:-//wp-events-plugin.com//7.2.3.1//EN
BEGIN:VEVENT
UID:159@grandpianoseries.org
DTSTART;TZID=Pacific/Easter:20260430T190000
DTEND;TZID=Pacific/Easter:20260430T210000
DTSTAMP:20250917T021015Z
URL:https://grandpianoseries.org/events/atos-trio/
SUMMARY:ATOS Trio
DESCRIPTION:\n\n\n\n\nTickets are available through the Artis—Naples box 
 office\nPhone: 239-597-1900\n\n\n\n\n\n\n\nFormed in Berlin in 2003 by vio
 linist Annette von Hehn\, cellist Stefan Heinemeyer and pianist Thomas Hop
 pe\, the ATOS Trio has established itself as one of the finest piano trios
  performing before the public today. With distinguished interpretations an
 d unbridled enthusiasm\, with absolute dedication and always enthrallingly
  genuine\, the ATOS Trio continues to delight audiences at concerts around
  the world.\n\nAfter intensive studies with Ilan Gronich\, Menahem Pressle
 r and the Alban Berg Quartet\, the Trio won the Deutsche Musikwettbewerb\,
  the Kalichstein-Laredo-Robinson International Trio Award and the Melbourn
 e Chamber Music Competition. A New Generation Artists selection from the B
 BC and a Boletto Buitoni Award for artistic excellence soon followed. Sinc
 e then\, the ATOS Trio has performed in many of the world´s prestigious h
 alls at Carnegie Hall\, New York\, Berlin Philharmonic\, Teatro Colon Buen
 os Aires\, and the Concertgebouw Amsterdam\, to name a few\, with a repert
 oire that includes all the masterworks written for piano trio as well as m
 any a lesser-known treasure.\n\nThe ATOS Trio has recorded extensively\, y
 et thoughtfully. Besides well-known works by Mendelssohn\, Brahms\, or Sch
 umann\, it was the complete trios by Heinrich von Herzogenberg which were 
 hailed as "a treasure" by Germany´s Spiegel Online\, and the "French Albu
 m (Debussy\, Chaminade\, Francaix\, Boulanger)\, the "Russian Album (Arens
 ky\, Rachmaninov\, Shostakovich)"\, the "Czech Album (Suk\, Smetana\, Dvor
 ak)" or the "Vienna Album (Korngold\, Krenek\, Kreisler)" received similar
  accolades.\n\nMost recently\, London´s Wigmore Hall published a two CD s
 et of the complete Beethoven piano trios "live at Wigmore Hall"\, recorded
  during two sold-out concerts.\n\n\n\n\n\nProgram\nHaydn: Trio in G-Major\
 , Hob.XV:25 “all´Ongarese”\nCassadò: Trio in C-Major\nIntermission\n
 Schubert: Trio in Bb-Major\, op.99\n\n\n\n\n\n\n\n\nGet Tickets\n\n
ATTACH;FMTTYPE=image/jpeg:https://i0.wp.com/grandpianoseries.org/wp-conten
 t/uploads/2025/09/GPS_Atos_Trio__001__Ph.StevenHaberland_Top.webp?fit=2560
 %2C1463&ssl=1
CATEGORIES:Concerts
LOCATION:Artis—Naples (Daniels Pavilion)\, 5833 Pelican Bay Boulevard\, N
 aples\, FL\, 34108-2740\, United States
X-APPLE-STRUCTURED-LOCATION;VALUE=URI;X-ADDRESS=5833 Pelican Bay Boulevard\
 , Naples\, FL\, 34108-2740\, United States;X-APPLE-RADIUS=100;X-TITLE=Arti
 s—Naples (Daniels Pavilion):geo:0,0
END:VEVENT
BEGIN:VTIMEZONE
TZID:Pacific/Easter
X-LIC-LOCATION:Pacific/Easter
BEGIN:STANDARD
DTSTART:20260404T210000
TZOFFSETFROM:-0500
TZOFFSETTO:-0600
TZNAME:-06
END:STANDARD
END:VTIMEZONE
END:VCALENDAR