BEGIN:VCALENDAR
VERSION:2.0
PRODID:-//wp-events-plugin.com//7.2.3.1//EN
BEGIN:VEVENT
UID:145@grandpianoseries.org
DTSTART;TZID=Pacific/Easter:20250731T160000
DTEND;TZID=Pacific/Easter:20250731T170000
DTSTAMP:20250802T205852Z
URL:https://grandpianoseries.org/events/ariel-lanyi/
SUMMARY:Ariel Lanyi
DESCRIPTION:ALL PROCEEDS GO TO SUPPORT FREE YOUTH EDUCATION PROGRAMS\n\nIt'
 s almost time\, and online sales are closed. Call 469-333-3231 to check fo
 r ticket availability—no sales at the door.\n\nBIOGRAPHY:\n\nIn March 20
 23\, Ariel Lanyi was honored to receive the Prix Serdang\, a Swiss prize a
 warded by the distinguished Austrian pianist Rudolf Buchbinder.  The priz
 e is endowed with CHF 50\,000 and is not a competition\, but a recognition
  of a young pianist’s achievements and an investment in their future.\n\
 nPrior to this\, Ariel won 3rd prize at the 2021 Leeds International Piano
  Competition\, performing Brahms Concerto No. 2 with the Royal Liverpool P
 hilharmonic Orchestra conducted by Andrew Manze in the finals. In the same
  year\, he was a winner of the Young Classical Artists Trust International
  Auditions.\n\nCurrent highlights include returns to the Wigmore Hall and 
 to the Miami International Piano Festival\, as well as debut appearances a
 t the Vancouver Recital Society\, Nottingham International Piano Series\, 
 Frankfurt Alte Oper\, and at Merkin Hall in New York.\n\nOn the concerto p
 latform\, Ariel has appeared with various orchestras\, including the Mahle
 r Chamber Orchestra\, Mozarteumorchester Salzburg\, Israel Philharmonic\, 
 Royal Liverpool Philharmonic Orchestra\, Sinfonia Viva and City of Birming
 ham Symphony Orchestra.\n\nFuture projects include the release of Organ Re
 flections on Linn Records\, a recording of piano music inspired by the org
 an by Mozart\, Franck\, and Reger\; and a recording with the Vienna Radio 
 Symphony Orchestra.\n\nAn avid chamber musician\, Ariel has attended the M
 arlboro festival\, and has collaborated with eminent musicians such as Mar
 ia João Pires\, Marina Piccinini\, Charles Neidich\, Alena Baeva\, and To
 rleif Thedéen.\n\nRecent highlights have included recitals at the Wigmore
  Hall\, Fundacion Juan March in Madrid\, Homburg MeisterKonzerte series in
  Germany\, the Grafenegg festival in Austria\, the Bravo!Vail festival in 
 Colorado\, the Kissinger Festsommer and Mecklenburg-Vorpommern festivals i
 n Germany\, Perth Concert Hall (broadcast by BBC Radio 3)\, and in festiva
 ls across the UK including Chipping Campden\, Brighton and Bath.\n\nIn 202
 1\, Linn Records released his recording of music by Schubert to critical a
 cclaim.\n\nBorn in Jerusalem\, Ariel studied with Lea Agmon and Yuval Cohe
 n. Based in London\, he completed his studies at the Royal Academy of Musi
 c with Hamish Milne and Ian Fountain. He has received extensive tuition fr
 om eminent artists such as Alfred Brendel\, Robert Levin\, Murray Perahia\
 , Imogen Cooper\, Nicholas Walker\, and the late Leon Fleisher and Ivan Mo
 ravec. Other awards include 1st Prize at the Grand Prix Animato Competitio
 n in Paris and 1st Prize in the Dudley International Piano Competition\, a
 s well as a finalist award at the Rubinstein Competition. Ariel was recent
 ly made an Associate of the Royal Academy of Music.\nProgram\n\n\n\n\n\n\n
 The Birth of Romanticism: Beethoven\, Bartók\, Chopin\nBeethoven's high c
 lassicism and Chopin's epic romanticism bookend exotic and coquettish Hung
 arian folk songs. Europe's east and west meet in this fascinating program.
  Beethoven is on the edge of his deafness\, yet he composes a musical 'jok
 e' - the quasi-humorous sonata. Bartók displays the authenticity of the 
 folklore of his homeland\, while Chopin embodies the sonata-as-symphony in
  his beloved masterpiece\, the third sonata.\n\nOur host\, Konstantin Souk
 hovetski\, will illuminate the personal stories and artistic inspirations
  behind these musical treasures\, ​including a brief Q&amp\;A with ou
 r guest artist.\n\nBeethoven: Sonata in G major\, Op. 31/1\n\nBartók: 15
  Hungarian Peasant Songs\, Sz. 71\n\nChopin: Sonata No. 3 in B minor\, Op.
  58\n\n\n\n\n\n\n\n\n\n\n\n\nGet Tickets\n\n\n
ATTACH;FMTTYPE=image/jpeg:https://i0.wp.com/grandpianoseries.org/wp-conten
 t/uploads/2025/05/Ariel_Lanyi_web-scaled.webp?fit=2560%2C1463&ssl=1
CATEGORIES:Past Events
LOCATION:Quidley & Company Fine Art Gallery\, 375 Broad Ave S\, Naples\, FL
 \, 34102\, United States
X-APPLE-STRUCTURED-LOCATION;VALUE=URI;X-ADDRESS=375 Broad Ave S\, Naples\, 
 FL\, 34102\, United States;X-APPLE-RADIUS=100;X-TITLE=Quidley & Company Fi
 ne Art Gallery:geo:0,0
END:VEVENT
BEGIN:VTIMEZONE
TZID:Pacific/Easter
X-LIC-LOCATION:Pacific/Easter
BEGIN:STANDARD
DTSTART:20250405T210000
TZOFFSETFROM:-0500
TZOFFSETTO:-0600
TZNAME:-06
END:STANDARD
END:VTIMEZONE
END:VCALENDAR