BEGIN:VCALENDAR
VERSION:2.0
PRODID:-//wp-events-plugin.com//7.2.3.1//EN
BEGIN:VEVENT
UID:130@grandpianoseries.org
DTSTART;TZID=Pacific/Easter:20250327T193000
DTEND;TZID=Pacific/Easter:20250327T210000
DTSTAMP:20241223T153147Z
URL:https://grandpianoseries.org/events/andrew-von-oeyen-2/
SUMMARY:Andrew von Oeyen
DESCRIPTION:\n\n\n\n\nIndividual tickets are now on sale at Artis—Naples.
 \nPlease call Artis—Naples box office for assistance at 239-597-1900.\n\
 n\n\nIndisputable gifts and an extravagantly thorough and effortless techn
 ique. - The Los Angeles Times\n\nAcclaimed internationally for his insight
 ful\, elegant artistry and brilliant technique\, Andrew von Oeyen has esta
 blished himself as one of the most captivating pianists of his generation.
 \n\nSince his debut at age 16 with the Los Angeles Philharmonic and Esa-Pe
 kka Salonen\, Mr. von Oeyen has presented a wide range of concerto and sol
 o repertoire at leading venues worldwide. He has appeared as a soloist in 
 the United States with such ensembles as the Philadelphia Orchestra\, Los 
 Angeles Philharmonic\, San Francisco Symphony\, National Symphony Orchestr
 a\, Detroit Symphony\, Dallas Symphony\, Atlanta Symphony\, St. Louis Symp
 hony\, Seattle Symphony\, Cincinnati Symphony\, Ravinia Festival Orchestra
 \, Grant Park Orchestra\, and Spoleto Festival USA Orchestra. He has perfo
 rmed internationally with the Mariinsky Orchestra\, Berlin Symphony\, Prag
 ue Philharmonia\, New Japan Philharmonic\, Singapore Symphony Orchestra\, 
 Orchestre Symphonique de Marseille\, Bilbao Symphony\, Geneva Chamber Orch
 estra\, Vancouver Symphony\, Calgary Philharmonic\, Jerusalem Symphony Orc
 hestra\, Slovenian Philharmonic\, and Slovak Philharmonic\, among others.\
 n\nMr. von Oeyen has given recitals at London's Wigmore Hall and Barbican 
 Hall\, the Lincoln Center in New York\, the Kennedy Center in Washington\,
  D.C.\, Boston’s Symphony Hall\, Royce Hall in Los Angeles\, Herbst Thea
 ter in San Francisco\, Spivey Hall in Atlanta\, Tonhalle Zürich\, Wiener 
 Konzerthaus\, the Royal Opera of Versailles\, Teatro Olimpico in Rome\, Mo
 scow’s Tchaikovsky Hall\, St. Petersburg’s Philharmonia\, Dublin’s N
 ational Concert Hall\, Sala São Paulo\, Palacio de Bellas Artes in Mexico
  City\, the Hong Kong Cultural Centre\, the Hanoi Opera\, and in every maj
 or concert hall of Japan and South Korea. Festival appearances include Asp
 en\, Ravinia\, Grant Park\, Mainly Mozart\, Saratoga\, Schubertiade\, Spol
 eto USA\, Brevard\, Grand Teton\, Chautauqua and the Mariinsky’s 'Stars 
 of the White Nights'.\n\nMr. von Oeyen’s engagements for the 2022-2023 s
 eason include performances with the BBC Symphony Orchestra\, Prague Philha
 rmonia\, Kansai Philharmonic Orchestra\, Grand Rapids Symphony\, Phoenix S
 ymphony\, Zagreb Philharmonic Orchestra\, a tour in Taiwan\, and recitals 
 throughout North America and Europe. Other recent invitations include the 
 San Francisco Symphony\, Dallas Symphony\, Atlanta Symphony\, Magdeburg Ph
 ilharmonie\, Iceland Symphony\, Buenos Aires Philharmonic (Teatro Colón)\
 , Kraków Philharmonic\, Los Angeles Chamber Orchestra\, a debut in Kuwait
  City\, and a return engagement at the Royal Opera House\, Muscat\, for th
 e Sultan of Oman’s New Year’s Eve Gala.\n\nMr. von Oeyen has recorded 
 for Warner Classics since 2017. His critically acclaimed solo and concerto
  albums include repertoire ranging from Bach and Beethoven to Debussy\, Ge
 rshwin\, Ravel\, and Saint-Saëns. 2021 saw the release of his third album
  for Warner Classics\, Bach-Beethoven\, which was selected as an 'Essentia
 l New Release' by Gramophone magazine\, topping streaming charts on variou
 s platforms (Apple Music\, Spotify and IDAGIO). He previously recorded rec
 ital albums of Liszt\, Debussy\, and Stravinsky for the Delos label. Mr. v
 on Oeyen has reached broad audiences through televised performances\, incl
 uding PBS' A Capitol Fourth\, America’s largest live concert telecast to
  millions around the globe from the U.S. Capitol.\n\nMr. von Oeyen\, of Ge
 rman and Dutch origin\, was born in the U.S. He began his piano studies at
  age 5 and made his solo orchestral debut at age 10. An alumnus of Columbi
 a University and graduate of The Juilliard School\, where his principal te
 achers were Herbert Stessin and Jerome Lowenthal\, he also worked with Alf
 red Brendel and Leon Fleisher. He won the prestigious Gilmore Young Artist
  Award in 1999 and also took First Prize in the Léni Fé Bland Foundation
  National Piano Competition in 2001. Mr. von Oeyen lives in Los Angeles an
 d Paris where he holds both U.S. and French nationality.\n\n\n\n\n\nProgra
 m\n\n\n\n\n\n\n\nAngels &amp\; Demons\n\nAn exciting glimpse into the prov
 erbial bookends of the human condition: the good and the evil\, angels and
  demons\, darkness and light. Surrender to the catharsis of the beguiling 
 music across 300 years.\n\n“For Angels &amp\; Demons\, I have brought to
 gether works of divine and demonic inspiration in keyboard\, orchestral\, 
 operatic\, and choral music spanning three centuries. It’s a journey int
 o the darkest corners of human emotion\, but also towards rapture and cath
 arsis\, confronting and contemplating the powerful forces that dwell above
 \, below\, among and within us.” – Andrew von Oeyen.\n\nJ.S. Bach/F. B
 usoni. Prelude from Organ Leipzig Chorale “Nun komm’ der Heiden Heilan
 d\,” BWV 659\nJ.S. Bach: French Suite No. 5 in G Major\, BWV 816\nE. Mac
 Dowell: Rhapsodie: In ritmo tenebre (“Lasciate ogni speranza Voi ch’en
 trate” Dante-Inferno) from First Modern Suite\nF. Liszt: Mephisto Waltz 
 No. 1\, S. 514\n\nIntermission\n\nC. Massenet/A. von Oeyen: Méditation fr
 om Thaïs\nC. Saint-Saëns: Danse Bacchanale from Samson et Dalila\, trans
 cribed for piano by the composer\nO. Messiaen: Vingt Regards XX - Regard d
 e l'Église d’amour\n\n&nbsp\;\n\n\n\n\n\n\n\n\n\n\n\n\nGet Tickets\n\n\
 n
ATTACH;FMTTYPE=image/jpeg:https://i0.wp.com/grandpianoseries.org/wp-conten
 t/uploads/2024/07/Andrew-von-Oeyen2To-scaled.jpg?fit=2560%2C1463&ssl=1
CATEGORIES:Past Events
LOCATION:Artis—Naples (Ubben Signature Event Space)\, 5833 Pelican Bay Bo
 ulevard\, Naples\, FL\, 34108-2740\, United States
X-APPLE-STRUCTURED-LOCATION;VALUE=URI;X-ADDRESS=5833 Pelican Bay Boulevard\
 , Naples\, FL\, 34108-2740\, United States;X-APPLE-RADIUS=100;X-TITLE=Arti
 s—Naples (Ubben Signature Event Space):geo:0,0
END:VEVENT
BEGIN:VTIMEZONE
TZID:Pacific/Easter
X-LIC-LOCATION:Pacific/Easter
BEGIN:DAYLIGHT
DTSTART:20240907T230000
TZOFFSETFROM:-0600
TZOFFSETTO:-0500
TZNAME:-05
END:DAYLIGHT
END:VTIMEZONE
END:VCALENDAR