BEGIN:VCALENDAR
VERSION:2.0
PRODID:-//wp-events-plugin.com//7.2.3.1//EN
BEGIN:VEVENT
UID:147@grandpianoseries.org
DTSTART;TZID=Pacific/Easter;VALUE=DATE:20250622
DTEND;TZID=Pacific/Easter;VALUE=DATE:20251107
DTSTAMP:20250908T143144Z
URL:https://grandpianoseries.org/events/2025-2026-season-subscription/
SUMMARY:2025-2026 Season Subscription
DESCRIPTION:\n\n\n\nSubscription renewals are currently available. Orders f
 or new subscribers will be available on Monday\, August 11. Subscriptions 
 can be purchased at the Artis—Naples box office. For Assistance\, call (
 239) 597-1900\nSubscribe today for your seats to these exciting events.\nN
 atasha Paremski\nNovember 6\, 2025\nThursday at 7 pm\nDaniels Pavilion\nNa
 tasha Paremski\, piano\n\n\nAznavoorian Sisters\nDecember 4\, 2025\nThurs
 day at 7 pm\nDaniels Pavilion\nAni Aznavoorian\, cello\nMarta Aznavoorian
 \, piano\nBenjamin Grosvenor\nJanuary 15\, 2026\nThursday at 7 pm\nDaniel
 s Pavilion\nBenjamin Grosvenor\, piano\n\nReed Tetzloff\nFebruary 5\, 202
 6\nThursday at 7 pm\nDaniels Pavilion\nReed Tetzloff\, piano\nAlexandra D
 ovgan\nMarch 12\, 2026\nThursday at 7 pm\nDaniels Pavilion\nAlexandra Dovg
 an\, piano\nEvren Ozel\nApril 9\, 2026\nThursday at 7 pm\nDaniels Pavilio
 n\nEvren Ozel\, piano\nATOS Trio\nApril 30\, 2026\nThursday at 7 pm\nDani
 els Pavilion\nAnnette von Hehn\, violin\nStefan Heinemeyer\, cello\nThom
 as Hoppe\, piano\n\n\n\n\n&nbsp\;\n\n\n\n\n\n\n\nGet Tickets\n\n
ATTACH;FMTTYPE=image/jpeg:https://i0.wp.com/grandpianoseries.org/wp-conten
 t/uploads/2025/06/2025-2026-Season-25-x-15-cm-scaled.jpg?fit=2560%2C1536&s
 sl=1
CATEGORIES:Past Events
END:VEVENT
BEGIN:VTIMEZONE
TZID:Pacific/Easter
X-LIC-LOCATION:Pacific/Easter
BEGIN:STANDARD
DTSTART:20250405T210000
TZOFFSETFROM:-0500
TZOFFSETTO:-0600
TZNAME:-06
END:STANDARD
BEGIN:DAYLIGHT
DTSTART:20250906T230000
TZOFFSETFROM:-0600
TZOFFSETTO:-0500
TZNAME:-05
END:DAYLIGHT
END:VTIMEZONE
END:VCALENDAR