BEGIN:VCALENDAR
VERSION:2.0
PRODID:-//wp-events-plugin.com//7.2.3.1//EN
BEGIN:VEVENT
UID:128@grandpianoseries.org
DTSTART;TZID=Pacific/Easter;VALUE=DATE:20240901
DTEND;TZID=Pacific/Easter;VALUE=DATE:20241107
DTSTAMP:20241031T232626Z
URL:https://grandpianoseries.org/events/2024-2025-season-subscription/
SUMMARY:2024-2025 Season Subscription
DESCRIPTION:\n\n\n\n\nSubscriptions can be purchased at Artis—Naples box 
 office. For Assistance\, call (239) 597-1900\nEvenings @ Daniels Pavilion 
 ($200)\nWednesday\, Nov. 6\, 7:30 p.m. – Polina Osetinskaya (Piano Solo)
 \n\nThe Art of Transcription\n\nExperience musical gems translated into pi
 ano magic. This evening will have you humming along with Bach Cantatas and
  swaying to Tchaikovsky’s Flower Waltz.\n\nWednesday\, Dec. 4\, 7:30 p.m
 . – Sterling Elliott and Janice Carissa (Cello &amp\; Piano Duo)\n\nSens
 e and Sensibility\n\nThis program begins with the turbulent romanticism of
  Scriabin’s impassioned sonata. Followed by Janáček’s exotic fairy t
 ale\, we find an emotional anchor in the majestic masterpiece by Brahms.\n
 \nThursday\, Feb. 13\, 7:30 p.m. – Anna Geniushene (Piano Solo)\n\nGolde
 n Virtuosity\n\nThis program conveys the quintessence of each work\, as se
 en through the eyes of superstar pianists\, from Handel's magnificent Chac
 onne to Verdi's beloved operatic melodies to Stravinky's blockbuster balle
 t. Indeed\, it's a wild ride!\n\nThursday\, May 1\, 7:30 p.m. – Eric Lu 
 (Piano Solo)\n\nThe Chopiniana\n\nNo composer occupies the same space on t
 he Olympus of piano music as Chopin. The beauty\, passion\, and poetry of 
 the Polish Icon will come alive in the hands of one of the most exciting p
 ianists of our generation\, Eric Lu\, who is back at the Grand Piano Serie
 s by popular demand.\n\n\n\nEvenings @ Ubben Signature Event Space ($150)\
 nFriday\, Jan. 24\, 7:30 p.m. – Trio Bohémo (Piano\, Violin\, Cello)\n\
 nMusical Trinity\n\nThree remarkable musicians\, three iconic composers\, 
 and three diverse expressive languages—Trio Bohemo will guide you throug
 h the three iconic soundscapes: Haydn's classical perfection\, Smetana's e
 xotic colors\, and Brahms's romantic philosophy.\n\nThursday\, Mar. 6\, 7:
 30 p.m. – Pavel Haas Quartet with Milana Strezeva (String Quartet &amp\;
  Piano)\n\nAll About Dvořák\n\nThis program features the inimitable musi
 cal voice of the universally beloved Czech master - Antonín Dvořák. The
  two masterpieces perfectly blend his native land’s folklore and formal 
 perfection inherited from Brahms and Beethoven.\n\nThursday\, Mar. 27\, 7:
 30 p.m. – Andrew von Oeyen (Piano Solo)\n\nAngels &amp\; Demons\n\nAn ex
 citing glimpse into the proverbial bookends of the human condition: the go
 od and the evil\, angels and demons\, darkness and light. Surrender to the
  catharsis of the beguiling music across 300 years.\n\n\n\nAfternoons @ Ub
 ben Signature Event Space ($150)\nThursday\, Jan. 23\, 3 p.m. – Trio Boh
 émo (Piano\, Violin\, Cello)\n\nMusical Trinity\n\nThree remarkable music
 ians\, three iconic composers\, and three diverse expressive languages—T
 rio Bohemo will guide you through the three iconic soundscapes: Haydn's cl
 assical perfection\, Smetana's exotic colors\, and Brahms's romantic philo
 sophy.\n\nThursday\, Mar. 6\, 3 p.m. – Pavel Haas Quartet with Milana St
 rezeva (String Quartet &amp\; Piano)\n\nAll About Dvořák\n\nThis program
  features the inimitable musical voice of the universally beloved Czech ma
 ster - Antonín Dvořák. The two masterpieces perfectly blend his native 
 land’s folklore and formal perfection inherited from Brahms and Beethove
 n.\n\nWednesday\, Mar. 26\, 3 p.m. – Andrew von Oeyen (Piano Solo)\n\nAn
 gels &amp\; Demons\n\nAn exciting glimpse into the proverbial bookends of 
 the human condition: the good and the evil\, angels and demons\, darkness 
 and light. Surrender to the catharsis of the beguiling music across 300 ye
 ars.\n\n\n\n\n\n\n\nGet Tickets\n\n
ATTACH;FMTTYPE=image/jpeg:https://i0.wp.com/grandpianoseries.org/wp-conten
 t/uploads/2024/10/2024-2025-Season-Photo-Collage-webp-scaled.webp?fit=2560
 %2C1463&ssl=1
CATEGORIES:Concerts
END:VEVENT
BEGIN:VTIMEZONE
TZID:Pacific/Easter
X-LIC-LOCATION:Pacific/Easter
BEGIN:STANDARD
DTSTART:20240406T210000
TZOFFSETFROM:-0500
TZOFFSETTO:-0600
TZNAME:-06
END:STANDARD
BEGIN:DAYLIGHT
DTSTART:20240907T230000
TZOFFSETFROM:-0600
TZOFFSETTO:-0500
TZNAME:-05
END:DAYLIGHT
END:VTIMEZONE
END:VCALENDAR